BEGIN:VCALENDAR
VERSION:2.0
PRODID:-//BIO AUSTRIA - ECPv6.15.20//NONSGML v1.0//EN
CALSCALE:GREGORIAN
METHOD:PUBLISH
X-WR-CALNAME:BIO AUSTRIA
X-ORIGINAL-URL:https://www.bio-austria.at
X-WR-CALDESC:Veranstaltungen für BIO AUSTRIA
REFRESH-INTERVAL;VALUE=DURATION:PT1H
X-Robots-Tag:noindex
X-PUBLISHED-TTL:PT1H
BEGIN:VTIMEZONE
TZID:Europe/Vienna
BEGIN:DAYLIGHT
TZOFFSETFROM:+0100
TZOFFSETTO:+0200
TZNAME:CEST
DTSTART:20250330T010000
END:DAYLIGHT
BEGIN:STANDARD
TZOFFSETFROM:+0200
TZOFFSETTO:+0100
TZNAME:CET
DTSTART:20251026T010000
END:STANDARD
BEGIN:DAYLIGHT
TZOFFSETFROM:+0100
TZOFFSETTO:+0200
TZNAME:CEST
DTSTART:20260329T010000
END:DAYLIGHT
BEGIN:STANDARD
TZOFFSETFROM:+0200
TZOFFSETTO:+0100
TZNAME:CET
DTSTART:20261025T010000
END:STANDARD
BEGIN:DAYLIGHT
TZOFFSETFROM:+0100
TZOFFSETTO:+0200
TZNAME:CEST
DTSTART:20270328T010000
END:DAYLIGHT
BEGIN:STANDARD
TZOFFSETFROM:+0200
TZOFFSETTO:+0100
TZNAME:CET
DTSTART:20271031T010000
END:STANDARD
END:VTIMEZONE
BEGIN:VEVENT
DTSTART;TZID=Europe/Vienna:20260128T083000
DTEND;TZID=Europe/Vienna:20260128T164500
DTSTAMP:20260419T202444
CREATED:20251124T154926Z
LAST-MODIFIED:20260121T095756Z
UID:479870-1769589000-1769618700@www.bio-austria.at
SUMMARY:Ackerbautag - BIO AUSTRIA Bauerntage\, Bäuerinnentage
DESCRIPTION:Ackerbautag\n\n\n\nim Rahmen der BIO AUSTRIA Bäuerinnen- und Bauerntage 2026 \n\n\n\n \n\n\n\nTermin\n\n\n\nMittwoch\, 28. Jänner 2026von 9:00 bis 17:00 Uhr \n\n\n\nOrt\n\n\n\n\nBildungshaus Schloss Puchberg\, 4600 Wels\, OÖ\n\n\n\noder online (Hybrid)\n\n\n\n\nProgramm\n\n\n\n\nKlima- und Biodiversitätskrise: Was kann die Biologische Landwirtschaft beitragen?\n\n\n\nAckerbau mit Tierhaltung im Trockengebiet: Zwei Berichte aus der Praxis\n\n\n\nStrip-Till im biologischen Ackerbau: Erfahrungen und Ausblicke\n\n\n\nBio-Ackerkulturen: Was verspricht der Markt?\n\n\n\nErgebnisse aus aktuellen Versuchsarbeiten: Projekt „Weite Reihe“ und „Hafer+“\n\n\n\nRunder Tisch: Nährstoffversorgung 2.0 \n\nNeues zur BIO AUSTRIA Düngemittelrichtlinie\n\n\n\nStrategien zur Nährstoffversorgung im viehlosen Ackerbau\n\n\n\n\n\nZusammenfassung und Abschluss\n\n\n\n\nProgrammheft\n\n\n\n\nProgrammheft aller Fachtage zum Download\n\n\n\nAckerbautag auf Seite 7\n\n\n\n\n \n\n\n\nAnmeldung für Präsenz oder Online-Teilnahme NUR NOCH PER MAIL möglich!\n\n\n\nBitte das gewünschte Format bei der Anmeldung beachten bzw. angeben! \n\n\n\n+43 732 654884 \n\n\n\nveranstaltung@bio-austria.at \n\n\n\n\nonline hier: online Teilnahme\n\n\n\n\nTeilnahmebeitrag\n\n\n\nMitglieder von BIO AUSTRIA\, Demeter\, ORBI\, BLW EnnstalNicht-MitgliederNicht gefördert (ohne Betriebsnummer)Jugendtarif bis 26 Jahreund weitere Betriebsangehörige1 Tag Puchberg€ 73\,–€ 93\,–€ 170\,–€ 37\,–2 Tage Puchberg€ 124\,–€ 154\,–€ 275\,–€ 74\,–3 Tage Puchberg€ 171\,–€ 201\,–€ 369\,–€ 111\,–Online: pro Fachtag€ 40\,–€ 60\,–€ 120\,–€ 20\,–\n\n\n\nzur Übersicht der BIO AUSTRIA Bäuerinnen- und Bauerntage
URL:https://www.bio-austria.at/v/bauern/ackerbautag-bio-austria-bauerntage-baeuerinnentage/
LOCATION:Bildungshaus Schloss Puchberg\, Puchberg 1\, 4600 Wels\, www.schlosspuchberg.at\, Bildungshaus Schloss Puchberg\, Puchberg\, Wels\, Österreich Österreich
ATTACH;FMTTYPE=image/jpeg:https://www.bio-austria.at/app/uploads/2025/11/1-gemenge-wagenhofer-liebentritt.jpeg
ORGANIZER;CN="Referat Bildung":MAILTO:veranstaltung@bio-austria.at
END:VEVENT
END:VCALENDAR