BEGIN:VCALENDAR
VERSION:2.0
PRODID:-//BIO AUSTRIA - ECPv6.15.20//NONSGML v1.0//EN
CALSCALE:GREGORIAN
METHOD:PUBLISH
X-WR-CALNAME:BIO AUSTRIA
X-ORIGINAL-URL:https://www.bio-austria.at
X-WR-CALDESC:Veranstaltungen für BIO AUSTRIA
REFRESH-INTERVAL;VALUE=DURATION:PT1H
X-Robots-Tag:noindex
X-PUBLISHED-TTL:PT1H
BEGIN:VTIMEZONE
TZID:Europe/Vienna
BEGIN:DAYLIGHT
TZOFFSETFROM:+0100
TZOFFSETTO:+0200
TZNAME:CEST
DTSTART:20240331T010000
END:DAYLIGHT
BEGIN:STANDARD
TZOFFSETFROM:+0200
TZOFFSETTO:+0100
TZNAME:CET
DTSTART:20241027T010000
END:STANDARD
BEGIN:DAYLIGHT
TZOFFSETFROM:+0100
TZOFFSETTO:+0200
TZNAME:CEST
DTSTART:20250330T010000
END:DAYLIGHT
BEGIN:STANDARD
TZOFFSETFROM:+0200
TZOFFSETTO:+0100
TZNAME:CET
DTSTART:20251026T010000
END:STANDARD
BEGIN:DAYLIGHT
TZOFFSETFROM:+0100
TZOFFSETTO:+0200
TZNAME:CEST
DTSTART:20260329T010000
END:DAYLIGHT
BEGIN:STANDARD
TZOFFSETFROM:+0200
TZOFFSETTO:+0100
TZNAME:CET
DTSTART:20261025T010000
END:STANDARD
END:VTIMEZONE
BEGIN:VEVENT
DTSTART;TZID=Europe/Vienna:20250613T083000
DTEND;TZID=Europe/Vienna:20250613T120000
DTSTAMP:20260425T201024
CREATED:20250602T093907Z
LAST-MODIFIED:20250602T110002Z
UID:468936-1749803400-1749816000@www.bio-austria.at
SUMMARY:Bio-Obstbau Feldbegehung in Wiesen
DESCRIPTION:Einladung zur Bio-Obstbau Feldbegehung\n\n\n\nThemenschwerpunkte dieser Feldbegehung sind: \n\n\n\n\nAktuelles zu Kulturführung und Pflanzenschutz\n\n\n\nAllfälliges\n\n\n\n\nTreffpunkt:\n\n\n\n08:30 Uhr – Steinobst\, Kernobst\, BeerenobstBiohof Preisegger\, Hauptstraße 21a\, 7203 Wiesen \n\n\n\nAnmeldung:\n\n\n\nEine vorherige Anmeldung ist unbedingt erforderlich beiBIO AUSTRIA Burgenland unter +43 2612/43 642 oder mittels u.a. Formular! \n\n\n\nKontakt:\n\n\n\n\nMag. Karl Waltl\, Tel.: 0664/602 596 80 66\n\n\n\nFranz Traudtner\, Tel.: 0676/84 22 14 301\n\n\n\n\nWir freuen uns auf euer Kommen!
URL:https://www.bio-austria.at/v/bauern/bio-obstbau-info-veranstaltung-in-wiesen/
LOCATION:Biohof Preisegger\, Hauptstraße 21a\, Wiesen\, 7203\, Austria
ATTACH;FMTTYPE=image/gif:https://www.bio-austria.at/app/uploads/2020/09/marillenbluete-steinobst.gif
ORGANIZER;CN="BIO AUSTRIA Burgenland":MAILTO:burgenland@bio-austria.at
END:VEVENT
END:VCALENDAR