BEGIN:VCALENDAR
VERSION:2.0
PRODID:-//BIO AUSTRIA - ECPv6.15.20//NONSGML v1.0//EN
CALSCALE:GREGORIAN
METHOD:PUBLISH
X-WR-CALNAME:BIO AUSTRIA
X-ORIGINAL-URL:https://www.bio-austria.at
X-WR-CALDESC:Veranstaltungen für BIO AUSTRIA
REFRESH-INTERVAL;VALUE=DURATION:PT1H
X-Robots-Tag:noindex
X-PUBLISHED-TTL:PT1H
BEGIN:VTIMEZONE
TZID:Europe/Vienna
BEGIN:DAYLIGHT
TZOFFSETFROM:+0100
TZOFFSETTO:+0200
TZNAME:CEST
DTSTART:20250330T010000
END:DAYLIGHT
BEGIN:STANDARD
TZOFFSETFROM:+0200
TZOFFSETTO:+0100
TZNAME:CET
DTSTART:20251026T010000
END:STANDARD
BEGIN:DAYLIGHT
TZOFFSETFROM:+0100
TZOFFSETTO:+0200
TZNAME:CEST
DTSTART:20260329T010000
END:DAYLIGHT
BEGIN:STANDARD
TZOFFSETFROM:+0200
TZOFFSETTO:+0100
TZNAME:CET
DTSTART:20261025T010000
END:STANDARD
BEGIN:DAYLIGHT
TZOFFSETFROM:+0100
TZOFFSETTO:+0200
TZNAME:CEST
DTSTART:20270328T010000
END:DAYLIGHT
BEGIN:STANDARD
TZOFFSETFROM:+0200
TZOFFSETTO:+0100
TZNAME:CET
DTSTART:20271031T010000
END:STANDARD
END:VTIMEZONE
BEGIN:VEVENT
DTSTART;TZID=Europe/Vienna:20260115T180000
DTEND;TZID=Europe/Vienna:20260115T210000
DTSTAMP:20260421T151119
CREATED:20251205T090158Z
LAST-MODIFIED:20251205T090200Z
UID:506518-1768500000-1768510800@www.bio-austria.at
SUMMARY:Bio-Stammtisch in St. Andrä
DESCRIPTION:ÖPUL\, Produktion und Markt\n\n\n\nNutzt die ungezwungene Atmosphäre des Bio-Stammtisches für einen Informationsaustausch mit Freunden\, um Vergangenes zu besprechen und neue Ideen zu entwickeln. \n\n\n\nEine Anmeldung ist nicht erforderlich – wir beginnen um 18:00 Uhr!\n\n\n\nAuf Euer zahlreiches Kommen freuen sich unser Geschäftsführer Ernst Trettler und unser Obmann Franz Traudtner.
URL:https://www.bio-austria.at/v/bauern/bio-stammtisch-in-st-andrae-2/
LOCATION:Gasthof Zur Linde\, 7161 St. Andrä am Zicksee\, Haniflgasse 1\, Österreich
ATTACH;FMTTYPE=image/png:https://www.bio-austria.at/app/uploads/2024/12/stammtische-bio.png
ORGANIZER;CN="Bio Austria Burgenland":MAILTO:burgenland@bio-austria.at
END:VEVENT
END:VCALENDAR