BEGIN:VCALENDAR
VERSION:2.0
PRODID:-//BIO AUSTRIA - ECPv6.15.20//NONSGML v1.0//EN
CALSCALE:GREGORIAN
METHOD:PUBLISH
X-WR-CALNAME:BIO AUSTRIA
X-ORIGINAL-URL:https://www.bio-austria.at
X-WR-CALDESC:Veranstaltungen für BIO AUSTRIA
REFRESH-INTERVAL;VALUE=DURATION:PT1H
X-Robots-Tag:noindex
X-PUBLISHED-TTL:PT1H
BEGIN:VTIMEZONE
TZID:Europe/Vienna
BEGIN:DAYLIGHT
TZOFFSETFROM:+0100
TZOFFSETTO:+0200
TZNAME:CEST
DTSTART:20250330T010000
END:DAYLIGHT
BEGIN:STANDARD
TZOFFSETFROM:+0200
TZOFFSETTO:+0100
TZNAME:CET
DTSTART:20251026T010000
END:STANDARD
BEGIN:DAYLIGHT
TZOFFSETFROM:+0100
TZOFFSETTO:+0200
TZNAME:CEST
DTSTART:20260329T010000
END:DAYLIGHT
BEGIN:STANDARD
TZOFFSETFROM:+0200
TZOFFSETTO:+0100
TZNAME:CET
DTSTART:20261025T010000
END:STANDARD
BEGIN:DAYLIGHT
TZOFFSETFROM:+0100
TZOFFSETTO:+0200
TZNAME:CEST
DTSTART:20270328T010000
END:DAYLIGHT
BEGIN:STANDARD
TZOFFSETFROM:+0200
TZOFFSETTO:+0100
TZNAME:CET
DTSTART:20271031T010000
END:STANDARD
END:VTIMEZONE
BEGIN:VEVENT
DTSTART;TZID=Europe/Vienna:20260609T090000
DTEND;TZID=Europe/Vienna:20260609T170000
DTSTAMP:20260421T022049
CREATED:20260420T075918Z
LAST-MODIFIED:20260420T080027Z
UID:549738-1780995600-1781024400@www.bio-austria.at
SUMMARY:Bionet Fachtag: Agri-PV und Ackerbau 2026
DESCRIPTION:Programm:\n\n\n\n9:00 – 9:30 Ankommen und Begrüßung \n\n\n\n9:30 – 12:30 Fachvorträge \n\n\n\n12:30 – 13:30 Mittagsimbiss \n\n\n\n13:30 – 14:30 Vorstellung der Agri-PV Anlage Tadten/Wallern \n\n\n\n14:30 – 16:00 Besichtigung und Vorführung \n\n\n\n16:15 – 17:00 Abschlussdiskussion
URL:https://www.bio-austria.at/v/bauern/bionet-fachtag-agri-pv-und-ackerbau-2026/
LOCATION:Tadtner Meierhof (Neuhof)\, Tadten\, 7162
ATTACH;FMTTYPE=image/jpeg:https://www.bio-austria.at/app/uploads/2026/04/bionet-fachtag-beitrag-20260609.jpg
END:VEVENT
END:VCALENDAR