BEGIN:VCALENDAR
VERSION:2.0
PRODID:-//BIO AUSTRIA - ECPv6.15.20//NONSGML v1.0//EN
CALSCALE:GREGORIAN
METHOD:PUBLISH
X-WR-CALNAME:BIO AUSTRIA
X-ORIGINAL-URL:https://www.bio-austria.at
X-WR-CALDESC:Veranstaltungen für BIO AUSTRIA
REFRESH-INTERVAL;VALUE=DURATION:PT1H
X-Robots-Tag:noindex
X-PUBLISHED-TTL:PT1H
BEGIN:VTIMEZONE
TZID:Europe/Vienna
BEGIN:DAYLIGHT
TZOFFSETFROM:+0100
TZOFFSETTO:+0200
TZNAME:CEST
DTSTART:20250330T010000
END:DAYLIGHT
BEGIN:STANDARD
TZOFFSETFROM:+0200
TZOFFSETTO:+0100
TZNAME:CET
DTSTART:20251026T010000
END:STANDARD
BEGIN:DAYLIGHT
TZOFFSETFROM:+0100
TZOFFSETTO:+0200
TZNAME:CEST
DTSTART:20260329T010000
END:DAYLIGHT
BEGIN:STANDARD
TZOFFSETFROM:+0200
TZOFFSETTO:+0100
TZNAME:CET
DTSTART:20261025T010000
END:STANDARD
BEGIN:DAYLIGHT
TZOFFSETFROM:+0100
TZOFFSETTO:+0200
TZNAME:CEST
DTSTART:20270328T010000
END:DAYLIGHT
BEGIN:STANDARD
TZOFFSETFROM:+0200
TZOFFSETTO:+0100
TZNAME:CET
DTSTART:20271031T010000
END:STANDARD
END:VTIMEZONE
BEGIN:VEVENT
DTSTART;TZID=Europe/Vienna:20260325T080000
DTEND;TZID=Europe/Vienna:20261111T170000
DTSTAMP:20260421T103610
CREATED:20260219T123644Z
LAST-MODIFIED:20260312T131154Z
UID:545765-1774425600-1794416400@www.bio-austria.at
SUMMARY:Abgesagt: Boden beLeben - Bodenkurs im Grünen
DESCRIPTION:Theorie und Praxis der Regenerative Landwirtschaft\n\n\n\nDer Boden ist unsere wichtigste Lebensgrundlage. Mit den Prinzipien der Regenerativen Landwirtschaft beleben wir unsere Böden und bauen Humus auf.Wie gelingt es durch einfache\, kultivierende Maßnahmen die Leistungen des Bodenlebens zu nutzen? \n\n\n\nWie verringern wir den Aufwand zur Kontrolle von Beikräutern und Schaderregern?Wie kommen wir zu klimastabilen\, gesunden Böden und guten Erträgen?Unter der Leitung von Hubert Stark und Manuel Böhm gibt der „Bodenkurs im Grünen“ im Rahmen von vier praxisorientierten Seminarmodulen Antworten auf diese und ähnliche Fragestellungen und konkrete Anweisungen anhand von praktischen Beispielen.Im Bodenkurs wird das Verständnis dafür vermittelt\, entsprechende Handgriffe werden besprochen und anhand der anstehenden Arbeiten auf den Feldern demonstriert. Die Wirkung wird an Boden und Pflanzen beobachtet und auch gemessen.Darüber hinaus helfen fünf kostenlose Boden- und zwei Wirtschaftsdüngerproben den eigenen Betrieb zu analysieren und unter fachlicher Begleitung weiter zu entwickeln.Der „Bodenkurs im Grünen“ ist damit der perfekte Aufbau auf den Lehrgang Bodenpraktiker:in.Im Preis inbegriffen sind fünf kostenlose Boden- und zwei Wirtschaftsdüngeranalysen im Wert von rund € 1.000\,- und umfangreiche Seminar-Unterlagen. \n\n\n\n \n\n\n\n1.800\,00 € Teilnahmebeitrag gefördert3.900\,00 € Teilnahmebeitrag \n\n\n\n \n\n\n\nDer Kurs ist leider abgesagt!
URL:https://www.bio-austria.at/v/bauern/boden-beleben-bodenkurs-im-gruenen-2/
ATTACH;FMTTYPE=image/jpeg:https://www.bio-austria.at/app/uploads/2026/02/boden-cjulia-muhlberger.jpg
END:VEVENT
END:VCALENDAR