BEGIN:VCALENDAR
VERSION:2.0
PRODID:-//BIO AUSTRIA - ECPv6.15.20//NONSGML v1.0//EN
CALSCALE:GREGORIAN
METHOD:PUBLISH
X-WR-CALNAME:BIO AUSTRIA
X-ORIGINAL-URL:https://www.bio-austria.at
X-WR-CALDESC:Veranstaltungen für BIO AUSTRIA
REFRESH-INTERVAL;VALUE=DURATION:PT1H
X-Robots-Tag:noindex
X-PUBLISHED-TTL:PT1H
BEGIN:VTIMEZONE
TZID:Europe/Vienna
BEGIN:DAYLIGHT
TZOFFSETFROM:+0100
TZOFFSETTO:+0200
TZNAME:CEST
DTSTART:20240331T010000
END:DAYLIGHT
BEGIN:STANDARD
TZOFFSETFROM:+0200
TZOFFSETTO:+0100
TZNAME:CET
DTSTART:20241027T010000
END:STANDARD
BEGIN:DAYLIGHT
TZOFFSETFROM:+0100
TZOFFSETTO:+0200
TZNAME:CEST
DTSTART:20250330T010000
END:DAYLIGHT
BEGIN:STANDARD
TZOFFSETFROM:+0200
TZOFFSETTO:+0100
TZNAME:CET
DTSTART:20251026T010000
END:STANDARD
BEGIN:DAYLIGHT
TZOFFSETFROM:+0100
TZOFFSETTO:+0200
TZNAME:CEST
DTSTART:20260329T010000
END:DAYLIGHT
BEGIN:STANDARD
TZOFFSETFROM:+0200
TZOFFSETTO:+0100
TZNAME:CET
DTSTART:20261025T010000
END:STANDARD
END:VTIMEZONE
BEGIN:VEVENT
DTSTART;TZID=Europe/Vienna:20251111T084500
DTEND;TZID=Europe/Vienna:20251111T160000
DTSTAMP:20260423T002609
CREATED:20251007T131847Z
LAST-MODIFIED:20251008T083842Z
UID:476892-1762850700-1762876800@www.bio-austria.at
SUMMARY:Brühwurst- und Kochwurstherstellung mit Praxisteil
DESCRIPTION:Praktische Herstellung eines Brüh- und Kochwurstsortiments an einem Tag \n\n\n\n\n \n\n\n\n\nGrillspezialitäten\, Aufschnittwaren\n\n\n\nWürstchen\, Bratwürste\n\n\n\nGrobe Brühwürste und Halbdauerwaren\n\n\n\nLeberwürste\, Leberpasteten\, Blutwürste\, Sülzen und Presswürsten\n\n\n\n\n \n\n\n\nMit Hilfe neuer Technologien wird gezeigt\, dass Brühwurstherstellung mit Umrötung und optimaler Qualität ohne E-Nummern möglich ist. Das Skript enthält neben technologischen Anweisungen detaillierte Herstellungsabläufe und Rezepte. \n\n\n\n\n\nReferent: Hermann Jakob (D) \n\n\n\n\nWenn’s um die Bio-Fleischverarbeitung geht\, ist der Fleischermeister Hermann Jakob ausgewiesener Experte. Der ehem. Leiter der Meisterschule für Fleischer in Kulmbach ist einer der renommiertesten Berater bei der Wurst- und Fleischerzeugung im Biobereich. Hermann Jakob hat spezielle Rezepturen entwickelt\, die ganz ohne Zusatzstoffe auskommen und daher für die Verarbeitung im Biobereich besonders geeignet sind. \n\n\n\nWichtig: Saubere Arbeitsbekleidung mitbringen (Schürze oder Mantel\, Kopfbedeckung) \n\n\n\nAnmeldung bei BIO AUSTRIA Kärnten: 0463/5850-5400 oder online beim LFI Kärnten bis spätestens 4.November \n\n\n\n\nAnmeldung online
URL:https://www.bio-austria.at/v/bauern/bruehwurst-und-kochwurstherstellung-mit-praxisteil/
LOCATION:HBLA Pitzelstätten\, Glantalstrasse 59\, Klagenfurt-Wölfnitz\, 9061
ATTACH;FMTTYPE=image/jpeg:https://www.bio-austria.at/app/uploads/2025/10/img-20240123-120753zuschnitt.jpg
END:VEVENT
END:VCALENDAR