BEGIN:VCALENDAR
VERSION:2.0
PRODID:-//BIO AUSTRIA - ECPv6.15.20//NONSGML v1.0//EN
CALSCALE:GREGORIAN
METHOD:PUBLISH
X-WR-CALNAME:BIO AUSTRIA
X-ORIGINAL-URL:https://www.bio-austria.at
X-WR-CALDESC:Veranstaltungen für BIO AUSTRIA
REFRESH-INTERVAL;VALUE=DURATION:PT1H
X-Robots-Tag:noindex
X-PUBLISHED-TTL:PT1H
BEGIN:VTIMEZONE
TZID:Europe/Vienna
BEGIN:DAYLIGHT
TZOFFSETFROM:+0100
TZOFFSETTO:+0200
TZNAME:CEST
DTSTART:20250330T010000
END:DAYLIGHT
BEGIN:STANDARD
TZOFFSETFROM:+0200
TZOFFSETTO:+0100
TZNAME:CET
DTSTART:20251026T010000
END:STANDARD
BEGIN:DAYLIGHT
TZOFFSETFROM:+0100
TZOFFSETTO:+0200
TZNAME:CEST
DTSTART:20260329T010000
END:DAYLIGHT
BEGIN:STANDARD
TZOFFSETFROM:+0200
TZOFFSETTO:+0100
TZNAME:CET
DTSTART:20261025T010000
END:STANDARD
BEGIN:DAYLIGHT
TZOFFSETFROM:+0100
TZOFFSETTO:+0200
TZNAME:CEST
DTSTART:20270328T010000
END:DAYLIGHT
BEGIN:STANDARD
TZOFFSETFROM:+0200
TZOFFSETTO:+0100
TZNAME:CET
DTSTART:20271031T010000
END:STANDARD
END:VTIMEZONE
BEGIN:VEVENT
DTSTART;TZID=Europe/Vienna:20260518T190000
DTEND;TZID=Europe/Vienna:20260518T210000
DTSTAMP:20260421T053938
CREATED:20260420T084806Z
LAST-MODIFIED:20260420T085519Z
UID:549762-1779130800-1779138000@www.bio-austria.at
SUMMARY:Das Wichtigste zur Regulierung von Kartoffelkäfer und Krautfäule zum Saisonstart
DESCRIPTION:Termin\n\n\n\nMontag\, 18. Mai 202619:00 bis 21:00 Uhr \n\n\n\nOrt\n\n\n\nonline\, via ZOOMDie ZOOM-Zugangsdaten werden Ihnen nach der Anmeldung per mail zugeschickt.  \n\n\n\nProgramm\n\n\n\nZu Beginn der Pflanzenschutzsaison erfahren Sie von Bio-Kartoffel-Berater Franz Haslinger\, die wesentlichen und wichtigsten Punkte:  \n\n\n\n\nzur Regulierung von Kartoffelkäfer mit Pflanzenschutzmittel oder Geräten zum Absammeln\n\n\n\nzur Vorbeugung der Krautfäule\n\n\n\nzum Einsatz von Kupfer\n\n\n\n\nReferent\n\n\n\nFranz Haslinger – Kartoffelbauberater BIO AUSTRIA \n\n\n\nKosten\n\n\n\nBIO AUSTRIA Mitglieder€ 0\,-Nicht-Mitglieder € 30\,-ungefördert (ohne LFBIS)€ 60\,-\n\n\n\nAnmeldung\n\n\n\n\nonline hier\n\n\n\n\nveranstaltung@bio-austria.at \n\n\n\n+43 732 654 884  \n\n\n\nEinladung zum Downloaden hier
URL:https://www.bio-austria.at/v/bauern/das-wichtigste-zur-regulierung-von-kartoffelkaefer-und-krautfaeule-zum-saisonstart/
LOCATION:ZOOM webinar
ATTACH;FMTTYPE=image/jpeg:https://www.bio-austria.at/app/uploads/2022/05/pastedgraphic-1-haslinger.jpg
ORGANIZER;CN="Referat Bildung":MAILTO:veranstaltung@bio-austria.at
END:VEVENT
END:VCALENDAR