BEGIN:VCALENDAR
VERSION:2.0
PRODID:-//BIO AUSTRIA - ECPv6.15.20//NONSGML v1.0//EN
CALSCALE:GREGORIAN
METHOD:PUBLISH
X-WR-CALNAME:BIO AUSTRIA
X-ORIGINAL-URL:https://www.bio-austria.at
X-WR-CALDESC:Veranstaltungen für BIO AUSTRIA
REFRESH-INTERVAL;VALUE=DURATION:PT1H
X-Robots-Tag:noindex
X-PUBLISHED-TTL:PT1H
BEGIN:VTIMEZONE
TZID:Europe/Vienna
BEGIN:DAYLIGHT
TZOFFSETFROM:+0100
TZOFFSETTO:+0200
TZNAME:CEST
DTSTART:20250330T010000
END:DAYLIGHT
BEGIN:STANDARD
TZOFFSETFROM:+0200
TZOFFSETTO:+0100
TZNAME:CET
DTSTART:20251026T010000
END:STANDARD
BEGIN:DAYLIGHT
TZOFFSETFROM:+0100
TZOFFSETTO:+0200
TZNAME:CEST
DTSTART:20260329T010000
END:DAYLIGHT
BEGIN:STANDARD
TZOFFSETFROM:+0200
TZOFFSETTO:+0100
TZNAME:CET
DTSTART:20261025T010000
END:STANDARD
BEGIN:DAYLIGHT
TZOFFSETFROM:+0100
TZOFFSETTO:+0200
TZNAME:CEST
DTSTART:20270328T010000
END:DAYLIGHT
BEGIN:STANDARD
TZOFFSETFROM:+0200
TZOFFSETTO:+0100
TZNAME:CET
DTSTART:20271031T010000
END:STANDARD
END:VTIMEZONE
BEGIN:VEVENT
DTSTART;TZID=Europe/Vienna:20260121T090000
DTEND;TZID=Europe/Vienna:20260121T160000
DTSTAMP:20260422T172803
CREATED:20251017T090020Z
LAST-MODIFIED:20260120T101356Z
UID:477565-1768986000-1769011200@www.bio-austria.at
SUMMARY:abgesagt: Düngestrategien im Bio-Ackerbau: Vom Wirtschaftsdünger zur Zwischenfrucht (B-K-001/26)
DESCRIPTION:Inhalt\n\n\n\nFür einen erfolgreichen Bio-Ackerbau ist es wichtig\, die Kulturen ausgewogen zu ernähren. Neben der richtigen Fruchtfolge hat dabei auch die Düngung eine zentrale Bedeutung. Im Seminar werden die verschiedenen Möglichkeiten der Düngung im Bio-Ackerbau besprochen: \n\n\n\n\nWirtschaftsdünger richtig lagern und einsetzen\n\n\n\nKomposte und Flächenkompostierung\n\n\n\nWas ist bei Zukaufsdüngern zu beachten?\n\n\n\nZwischenfrüchte als Düngung\n\n\n\nBodenhilfsstoffe und deren Einsatzmöglichkeiten\n\n\n\n\nReferent\n\n\n\n\nManuel Böhm\, selbstständiger Berater für Bio-Landbau\n\n\n\n\nVeranstalter\n\n\n\n\nBIO AUSTRIA Burgenland\n\n\n\nLFI Burgenland\n\n\n\n\nAnmeldung\n\n\n\nAnmeldung bis spätestens eine Woche vor der Veranstaltung beiBIO AUSTRIA BurgenlandTel.: 02612/43 642 oderE-Mail: burgenland@bio-austria.at
URL:https://www.bio-austria.at/v/bauern/duengestrategien-im-bio-ackerbau-vom-wirtschaftsduenger-zur-zwischenfrucht-b-k-001-26/
LOCATION:Gasthaus Faymann\, Obere Hauptstraße 81\, Dörfl\, 7453
ATTACH;FMTTYPE=image/jpeg:https://www.bio-austria.at/app/uploads/Zwischenfruchtanbau2015Stmk_web.jpg
END:VEVENT
END:VCALENDAR