BEGIN:VCALENDAR
VERSION:2.0
PRODID:-//BIO AUSTRIA - ECPv6.15.20//NONSGML v1.0//EN
CALSCALE:GREGORIAN
METHOD:PUBLISH
X-WR-CALNAME:BIO AUSTRIA
X-ORIGINAL-URL:https://www.bio-austria.at
X-WR-CALDESC:Veranstaltungen für BIO AUSTRIA
REFRESH-INTERVAL;VALUE=DURATION:PT1H
X-Robots-Tag:noindex
X-PUBLISHED-TTL:PT1H
BEGIN:VTIMEZONE
TZID:Europe/Vienna
BEGIN:DAYLIGHT
TZOFFSETFROM:+0100
TZOFFSETTO:+0200
TZNAME:CEST
DTSTART:20250330T010000
END:DAYLIGHT
BEGIN:STANDARD
TZOFFSETFROM:+0200
TZOFFSETTO:+0100
TZNAME:CET
DTSTART:20251026T010000
END:STANDARD
BEGIN:DAYLIGHT
TZOFFSETFROM:+0100
TZOFFSETTO:+0200
TZNAME:CEST
DTSTART:20260329T010000
END:DAYLIGHT
BEGIN:STANDARD
TZOFFSETFROM:+0200
TZOFFSETTO:+0100
TZNAME:CET
DTSTART:20261025T010000
END:STANDARD
BEGIN:DAYLIGHT
TZOFFSETFROM:+0100
TZOFFSETTO:+0200
TZNAME:CEST
DTSTART:20270328T010000
END:DAYLIGHT
BEGIN:STANDARD
TZOFFSETFROM:+0200
TZOFFSETTO:+0100
TZNAME:CET
DTSTART:20271031T010000
END:STANDARD
END:VTIMEZONE
BEGIN:VEVENT
DTSTART;TZID=Europe/Vienna:20260305T090000
DTEND;TZID=Europe/Vienna:20260306T170000
DTSTAMP:20260423T065039
CREATED:20251001T074827Z
LAST-MODIFIED:20260113T103535Z
UID:476453-1772701200-1772816400@www.bio-austria.at
SUMMARY:Dynamische Agroforstwirtschaft – Prinzipien\, Planung und praktische Anwendung
DESCRIPTION:Die Dynamische Agroforstwirtschaft (DAF) imitiert ein natürliches Pflanzensystem mit hoher Vielfalt bzw. Pflanzdichte und regelmäßigem Schnitt der Pflanzen. Dabei wird mit der Sukzession und Schichtung von Pflanzen gearbeitet um eine starke Biomasseproduktion\, (Klima)-Resilienz und Pflanzen- bzw. Bodengesundheit zu erreichen. Im Kurs erlernen Sie die Grundprinzipien und Planungszugänge dieser Anbaumethode\, mit viel Raum für Interaktion. Der gemeinsamen Besprechung eines Entwurfs folgt am zweiten Kurstag die praktische Umsetzung und Anwendung der DAF-Methode.  \n\n\n\nDer Kurs findet in Kooperation mit dem Permakultur-Hof Kraut und Leben\,  der Permakultur-Akademie im Alpenraum sowie dem Netzwerk und Beratungsteam von Ecotop statt. \n\n\n\nZielgruppe:\n\n\n\nLandwirtschaftliche Betriebe\, Obstbetriebe\, Agroforst-Interessierte \n\n\n\nReferenten:\n\n\n\n\nBastian Dreher Pellhammer\n\n\n\nNikolas Haller\n\n\n\n\nKosten:\n\n\n\n\nTeilnahmebeitrag für BIO AUSTRIA Mitglieder: 155€ \n\n\n\nTeilnahmebeitrag gefördert: 160€ \n\n\n\nTeilnahmebeitrag ungefördert: 440€ \n\n\n\n\nAnmeldung:\n\n\n\n\nHier geht es zur Anmeldung
URL:https://www.bio-austria.at/v/bauern/dynamische-agroforstwirtschaft-prinzipien-planung-und-praktische-anwendung/
LOCATION:Hof Kraut und Leben\, Hagenbrunner Straße 7\, Enzersfeld im Weinviertel\, 2202
ATTACH;FMTTYPE=image/jpeg:https://www.bio-austria.at/app/uploads/2025/10/foto-fur-agrofostkurs-c-zehrfuchs.jpg
END:VEVENT
END:VCALENDAR