BEGIN:VCALENDAR
VERSION:2.0
PRODID:-//BIO AUSTRIA - ECPv6.15.20//NONSGML v1.0//EN
CALSCALE:GREGORIAN
METHOD:PUBLISH
X-WR-CALNAME:BIO AUSTRIA
X-ORIGINAL-URL:https://www.bio-austria.at
X-WR-CALDESC:Veranstaltungen für BIO AUSTRIA
REFRESH-INTERVAL;VALUE=DURATION:PT1H
X-Robots-Tag:noindex
X-PUBLISHED-TTL:PT1H
BEGIN:VTIMEZONE
TZID:Europe/Vienna
BEGIN:DAYLIGHT
TZOFFSETFROM:+0100
TZOFFSETTO:+0200
TZNAME:CEST
DTSTART:20220327T010000
END:DAYLIGHT
BEGIN:STANDARD
TZOFFSETFROM:+0200
TZOFFSETTO:+0100
TZNAME:CET
DTSTART:20221030T010000
END:STANDARD
BEGIN:DAYLIGHT
TZOFFSETFROM:+0100
TZOFFSETTO:+0200
TZNAME:CEST
DTSTART:20230326T010000
END:DAYLIGHT
BEGIN:STANDARD
TZOFFSETFROM:+0200
TZOFFSETTO:+0100
TZNAME:CET
DTSTART:20231029T010000
END:STANDARD
BEGIN:DAYLIGHT
TZOFFSETFROM:+0100
TZOFFSETTO:+0200
TZNAME:CEST
DTSTART:20240331T010000
END:DAYLIGHT
BEGIN:STANDARD
TZOFFSETFROM:+0200
TZOFFSETTO:+0100
TZNAME:CET
DTSTART:20241027T010000
END:STANDARD
END:VTIMEZONE
BEGIN:VEVENT
DTSTART;TZID=Europe/Vienna:20230318T090000
DTEND;TZID=Europe/Vienna:20230318T170000
DTSTAMP:20260421T105555
CREATED:20221114T125254Z
LAST-MODIFIED:20230220T092504Z
UID:146469-1679130000-1679158800@www.bio-austria.at
SUMMARY:Einführungskurs in die biologische Bienenhaltung – B-K-010/23
DESCRIPTION:Termin\n\n\n\nSamstag\, 18. März 2023\, 9:00 – 17:00 Uhr \n\n\n\nOrt\n\n\n\nHaus der BegegnungKalvarienbergplatz 117000 Eisenstadt \n\n\n\nInhalt\n\n\n\n\nRichtlinien der EU und der Interessensverbände\n\n\n\nBienengesundheit\n\n\n\nVermarktung\n\n\n\nUmstellungsplan und Betriebsmittelbeschaffung\n\n\n\nBesichtigung der Bienenstöcke\n\n\n\n\nReferentin\n\n\n\nMonika Track \n\n\n\nKosten\n\n\n\nkostenlos \n\n\n\nVeranstalter\n\n\n\n\nBIO AUSTRIA Burgenland\n\n\n\nImker-Landesverband Burgenland\n\n\n\n\nAnmeldung\n\n\n\nbis spätestens eine Woche vor der Veranstaltung bei \n\n\n\nBIO AUSTRIA BurgenlandT 02612/43 642M burgenland@bio-austria.at
URL:https://www.bio-austria.at/v/bauern/einfuehrungskurs-in-die-biologische-bienenhaltung-b-k-010-23/
LOCATION:Haus der Begegnung\, Kalvarienbergplatz 11\, Eisenstadt\, 7000\, Österreich
ATTACH;FMTTYPE=image/jpeg:https://www.bio-austria.at/app/uploads/2022/09/bienen-spaellehof11-id5724.jpg
END:VEVENT
END:VCALENDAR