BEGIN:VCALENDAR
VERSION:2.0
PRODID:-//BIO AUSTRIA - ECPv6.15.20//NONSGML v1.0//EN
CALSCALE:GREGORIAN
METHOD:PUBLISH
X-WR-CALNAME:BIO AUSTRIA
X-ORIGINAL-URL:https://www.bio-austria.at
X-WR-CALDESC:Veranstaltungen für BIO AUSTRIA
REFRESH-INTERVAL;VALUE=DURATION:PT1H
X-Robots-Tag:noindex
X-PUBLISHED-TTL:PT1H
BEGIN:VTIMEZONE
TZID:Europe/Vienna
BEGIN:DAYLIGHT
TZOFFSETFROM:+0100
TZOFFSETTO:+0200
TZNAME:CEST
DTSTART:20250330T010000
END:DAYLIGHT
BEGIN:STANDARD
TZOFFSETFROM:+0200
TZOFFSETTO:+0100
TZNAME:CET
DTSTART:20251026T010000
END:STANDARD
BEGIN:DAYLIGHT
TZOFFSETFROM:+0100
TZOFFSETTO:+0200
TZNAME:CEST
DTSTART:20260329T010000
END:DAYLIGHT
BEGIN:STANDARD
TZOFFSETFROM:+0200
TZOFFSETTO:+0100
TZNAME:CET
DTSTART:20261025T010000
END:STANDARD
BEGIN:DAYLIGHT
TZOFFSETFROM:+0100
TZOFFSETTO:+0200
TZNAME:CEST
DTSTART:20270328T010000
END:DAYLIGHT
BEGIN:STANDARD
TZOFFSETFROM:+0200
TZOFFSETTO:+0100
TZNAME:CET
DTSTART:20271031T010000
END:STANDARD
END:VTIMEZONE
BEGIN:VEVENT
DTSTART;TZID=Europe/Vienna:20260527T130000
DTEND;TZID=Europe/Vienna:20260527T160000
DTSTAMP:20260423T204530
CREATED:20260423T134323Z
LAST-MODIFIED:20260423T134402Z
UID:550076-1779886800-1779897600@www.bio-austria.at
SUMMARY:Erfahrungsaustausch biologischer Weinbau Rossatz
DESCRIPTION:Programm:\n\n\n\n\nBesichtigung eines in Umstellung auf biologische Wirtschaftsweise arbeitenden Weingutes. \n\n\n\nBegehung von Weingärten sowie Besprechen der aktuellen Situation. \n\n\n\nErkennen und Bekämpfung der wichtigsten Krankheiten. \n\n\n\nPlanung einer Begrünungsstrategie in Hinblick auf die momentane Wettersituation.\n\n\n\n\nZielgruppe:\n\n\n\nBio-Winzer:innen \n\n\n\nReferent:\n\n\n\nChristian Eitler \n\n\n\nKosten:\n\n\n\n\nTeilnahmebeitrag gefördert: 25€ \n\n\n\nTeilnahmebeitrag ungefördert: 100€ \n\n\n\n\nAnmeldung:\n\n\n\nHier geht es zur Anmeldung
URL:https://www.bio-austria.at/v/bauern/erfahrungsaustausch-biologischer-weinbau-rossatz/
LOCATION:Heuriger Gallhofer\, Auf der Schütt\, Rossatz-Arnsdorf\, 3602
ATTACH;FMTTYPE=image/jpeg:https://www.bio-austria.at/app/uploads/BioWeinStmk2017.jpg
END:VEVENT
END:VCALENDAR