BEGIN:VCALENDAR
VERSION:2.0
PRODID:-//BIO AUSTRIA - ECPv6.15.20//NONSGML v1.0//EN
CALSCALE:GREGORIAN
METHOD:PUBLISH
X-WR-CALNAME:BIO AUSTRIA
X-ORIGINAL-URL:https://www.bio-austria.at
X-WR-CALDESC:Veranstaltungen für BIO AUSTRIA
REFRESH-INTERVAL;VALUE=DURATION:PT1H
X-Robots-Tag:noindex
X-PUBLISHED-TTL:PT1H
BEGIN:VTIMEZONE
TZID:Europe/Vienna
BEGIN:DAYLIGHT
TZOFFSETFROM:+0100
TZOFFSETTO:+0200
TZNAME:CEST
DTSTART:20240331T010000
END:DAYLIGHT
BEGIN:STANDARD
TZOFFSETFROM:+0200
TZOFFSETTO:+0100
TZNAME:CET
DTSTART:20241027T010000
END:STANDARD
BEGIN:DAYLIGHT
TZOFFSETFROM:+0100
TZOFFSETTO:+0200
TZNAME:CEST
DTSTART:20250330T010000
END:DAYLIGHT
BEGIN:STANDARD
TZOFFSETFROM:+0200
TZOFFSETTO:+0100
TZNAME:CET
DTSTART:20251026T010000
END:STANDARD
BEGIN:DAYLIGHT
TZOFFSETFROM:+0100
TZOFFSETTO:+0200
TZNAME:CEST
DTSTART:20260329T010000
END:DAYLIGHT
BEGIN:STANDARD
TZOFFSETFROM:+0200
TZOFFSETTO:+0100
TZNAME:CET
DTSTART:20261025T010000
END:STANDARD
END:VTIMEZONE
BEGIN:VEVENT
DTSTART;TZID=Europe/Vienna:20251004T090000
DTEND;TZID=Europe/Vienna:20251004T170000
DTSTAMP:20260424T074301
CREATED:20250804T095434Z
LAST-MODIFIED:20260113T170054Z
UID:473372-1759568400-1759597200@www.bio-austria.at
SUMMARY:Erkenntnisse und Reflexionen bei der Bienenhaltung.
DESCRIPTION:Der möglichst natürliche Umgang mit den Honigbienen. Über 60 Jahre Erfahrung haben Wirkung. \n\n\n\n\n\n\n\n\n\nProgramm\n\n\n\n\nTierwohl und Bienengesundheit\n\n\n\nDie Bienenhaltung im Jahresverlauf\n\n\n\nUmgang mit den Bienen in besonderen Situationen\n\n\n\nErfolgreich imkern ohne Absperrgitter\n\n\n\nSpezialprodukte aus der Bio-Bienenhaltung\n\n\n\nWas wollen die Bienen – was will der Imker/die Imkerin?\n\n\n\nMeinungsaustausch und Diskussion unter den Kursteilnehmern\n\n\n\n\n \n\n\n\nZunehmend werden im Umgang mit den Honigbienen Betriebsweisen in Anwendung gebracht\, die immer weniger Rücksicht auf die Bedürfnisse der Bienen nehmen. Gleichzeitig steht auch die Qualität des geernteten Honigs immer mehr unter Druck. Es ist auf die Dauer nicht möglich\, diese Schwächen mit Einsatz von Technik auszugleichen. Darum braucht es doch mehr Information\, wie die Bienen wirklich funktionieren. Honigbienen sind keine Haustiere und damit muss entsprechend umgegangen werden. Wir sind schließlich auch Anwälte unserer Schützlinge. Da muss das Tier im Vordergrund stehen. \n\n\n\n \n\n\n\nReferent\n\n\n\nIM Hans Rindberger \n\n\n\n \n\n\n\nTermin\n\n\n\n4. Oktober 2025 von 9 bis 17 Uhr \n\n\n\n \n\n\n\nKosten\n\n\n\n€ 90\,- \n\n\n\n \n\n\n\nAnmeldung\n\n\n\nkursprogramm.imkereizentrum.at
URL:https://www.bio-austria.at/v/bauern/erkenntnisse-und-reflexionen-bei-der-bienenhaltung/
LOCATION:OÖ Imkerschule\, Pachmayrstrasse 57\, Linz\, 4040
ATTACH;FMTTYPE=image/jpeg:https://www.bio-austria.at/app/uploads/BienenStmk2017.jpg
END:VEVENT
END:VCALENDAR