BEGIN:VCALENDAR
VERSION:2.0
PRODID:-//BIO AUSTRIA - ECPv6.15.20//NONSGML v1.0//EN
CALSCALE:GREGORIAN
METHOD:PUBLISH
X-WR-CALNAME:BIO AUSTRIA
X-ORIGINAL-URL:https://www.bio-austria.at
X-WR-CALDESC:Veranstaltungen für BIO AUSTRIA
REFRESH-INTERVAL;VALUE=DURATION:PT1H
X-Robots-Tag:noindex
X-PUBLISHED-TTL:PT1H
BEGIN:VTIMEZONE
TZID:Europe/Vienna
BEGIN:DAYLIGHT
TZOFFSETFROM:+0100
TZOFFSETTO:+0200
TZNAME:CEST
DTSTART:20250330T010000
END:DAYLIGHT
BEGIN:STANDARD
TZOFFSETFROM:+0200
TZOFFSETTO:+0100
TZNAME:CET
DTSTART:20251026T010000
END:STANDARD
BEGIN:DAYLIGHT
TZOFFSETFROM:+0100
TZOFFSETTO:+0200
TZNAME:CEST
DTSTART:20260329T010000
END:DAYLIGHT
BEGIN:STANDARD
TZOFFSETFROM:+0200
TZOFFSETTO:+0100
TZNAME:CET
DTSTART:20261025T010000
END:STANDARD
BEGIN:DAYLIGHT
TZOFFSETFROM:+0100
TZOFFSETTO:+0200
TZNAME:CEST
DTSTART:20270328T010000
END:DAYLIGHT
BEGIN:STANDARD
TZOFFSETFROM:+0200
TZOFFSETTO:+0100
TZNAME:CET
DTSTART:20271031T010000
END:STANDARD
END:VTIMEZONE
BEGIN:VEVENT
DTSTART;TZID=Europe/Vienna:20260429T090000
DTEND;TZID=Europe/Vienna:20260429T120000
DTSTAMP:20260422T215318
CREATED:20251021T092140Z
LAST-MODIFIED:20251021T092142Z
UID:477695-1777453200-1777464000@www.bio-austria.at
SUMMARY:Exkursion: Die Vogelwelt als Indikator der Artenvielfalt - ein Streifzug durch die Natur
DESCRIPTION:Das Waldviertel gilt als Rückzugsort für viele Vogelarten – und doch verschwinden auch hier vertraute Stimmen aus der Landschaft. Bei dieser Exkursion wollen wir genauer die Bedürfnisse der heimischen Vogelwelt erforschen und begeben uns vor Ort auf Spuren- und vor allem Strukturensuche. Wir beleuchten den engen Zusammenhang zwischen Landschaftsnutzung\, Strukturvielfalt und Artenbestand. Dabei wird klar: Vögel sind nicht nur faszinierende Beobachtungsobjekte sondern auch Frühwarnsysteme für den Zustand unserer Umwelt. Bei diesem Kurs erfahren sie mit welchen oft einfachen Strukturen unsere gefiederten Freunde unterstützt werden können. \n\n\n\nZielgruppe:\n\n\n\nGrünland- und Ackerbaubetriebe \n\n\n\nMitzubringen:\n\n\n\nwetterangepasste Kleidung\, Schreibutensilien \n\n\n\nReferent:\n\n\n\nDr. Gerhard Loupal \n\n\n\nKosten:\n\n\n\n\nTeilnahmebeitrag für BIO AUSTRIA Mitglieder: 25€ \n\n\n\nTeilnahmebeitrag gefördert: 30€ \n\n\n\nTeilnahmebeitrag ungefördert: 90€ \n\n\n\n\nAnmeldung:\n\n\n\n\nHier geht es zur Anmeldung
URL:https://www.bio-austria.at/v/bauern/exkursion-die-vogelwelt-als-indikator-der-artenvielfalt-ein-streifzug-durch-die-natur/
LOCATION:Helmut Riß\, Grafenschlag 14\, 3912 Grafenschlag\, Österreich
ATTACH;FMTTYPE=image/jpeg:https://www.bio-austria.at/app/uploads/2025/08/specht-pixabay.jpg
END:VEVENT
END:VCALENDAR