BEGIN:VCALENDAR
VERSION:2.0
PRODID:-//BIO AUSTRIA - ECPv6.15.20//NONSGML v1.0//EN
CALSCALE:GREGORIAN
METHOD:PUBLISH
X-WR-CALNAME:BIO AUSTRIA
X-ORIGINAL-URL:https://www.bio-austria.at
X-WR-CALDESC:Veranstaltungen für BIO AUSTRIA
REFRESH-INTERVAL;VALUE=DURATION:PT1H
X-Robots-Tag:noindex
X-PUBLISHED-TTL:PT1H
BEGIN:VTIMEZONE
TZID:Europe/Vienna
BEGIN:DAYLIGHT
TZOFFSETFROM:+0100
TZOFFSETTO:+0200
TZNAME:CEST
DTSTART:20240331T010000
END:DAYLIGHT
BEGIN:STANDARD
TZOFFSETFROM:+0200
TZOFFSETTO:+0100
TZNAME:CET
DTSTART:20241027T010000
END:STANDARD
BEGIN:DAYLIGHT
TZOFFSETFROM:+0100
TZOFFSETTO:+0200
TZNAME:CEST
DTSTART:20250330T010000
END:DAYLIGHT
BEGIN:STANDARD
TZOFFSETFROM:+0200
TZOFFSETTO:+0100
TZNAME:CET
DTSTART:20251026T010000
END:STANDARD
BEGIN:DAYLIGHT
TZOFFSETFROM:+0100
TZOFFSETTO:+0200
TZNAME:CEST
DTSTART:20260329T010000
END:DAYLIGHT
BEGIN:STANDARD
TZOFFSETFROM:+0200
TZOFFSETTO:+0100
TZNAME:CET
DTSTART:20261025T010000
END:STANDARD
END:VTIMEZONE
BEGIN:VEVENT
DTSTART;TZID=Europe/Vienna:20251107T090000
DTEND;TZID=Europe/Vienna:20251107T150000
DTSTAMP:20260423T122321
CREATED:20250918T114409Z
LAST-MODIFIED:20251107T121159Z
UID:475955-1762506000-1762527600@www.bio-austria.at
SUMMARY:Fachtag Biologische Landwirtschaft
DESCRIPTION:Programm:\n\n\n\n\nZum Programm als Download\n\n\n\n\n\nBöden im Klimawandel – Stellschrauben für eine klimaresiliente Bodenbewirtschaftung – David LugerInhalt: Diskussion der Effekte des Klimawandels auf Bodenfunktionen und damit verbundenen Prozessen. Ableitung von essentiellen Boden-Indikatoren\, als Stellschrauben für eine klimaresiliente Bodenbewirtschaftung auf Basis von aktuellen wissenschaftlichen Erkenntnissen. \n\n\n\nAktuelles aus ÖPUL-Sicht – DI Elisabeth Kerschbaumer\, LK NÖ\n\n\n\nBiofruchtfolgen und ÖPUL – wie passt das zusammen? – DI Martin Fischl\, LK NÖ\n\n\n\nGut vorbereitet in die Bio-Kontrolle – Veronika Freudenberger\, Austria Bio Garantie\n\n\n\nAktuelle Entwicklung von Biomärkten – DI Martin Greßl\, AMA-Marketing\n\n\n\n\nWeiters können Sie sich in den Bereichen Ackerbau oder Tierhaltung vertiefen: \n\n\n\nSchwerpunkt Ackerbau \n\n\n\n\nKonservierender Bio-Ackerbau – Ideen und Lösungsversuche aus der Praxis – Stefan Schmidt\, Praktiker\n\n\n\nStandort- und Fruchtfolgeangepasste Begrünungen – Christian Reithofer\, BSc & Stefan Wiesinger\, BSc\, Bio Forschung Austria\n\n\n\n\nSchwerpunkt Tierhaltung \n\n\n\n\nGülle\, Mist und Jauche – effizienter Wirtschaftsdüngereinsatz als Erfolgsfaktor am Biobetrieb – DI Josef Springer\, LK NÖ\n\n\n\nVerbesserungspotential in der (Grund)-Futterernte – DI Gerald Stögmüller\, LK NÖ\n\n\n\n\nEine Diskussionsrunde mit der Vizepräsidentin der LK NÖ\, Andrea Wagner\, und dem Obmann von BIO AUSTRIA NÖ/Wien\, Walter Klingenbrunner\, rundet den Fachtag Biologische Landwirtschaft ab. \n\n\n\nÄnderungen vorbehalten! \n\n\n\nKosten:\n\n\n\n\nTeilnahmebeitrag gefördert: 45€\n\n\n\nTeilnahmebeitrag ungefördert: 90€\n\n\n\n\nWeitere Informationen und Anmeldung:\n\n\n\n\nHier geht es zur Anmeldung
URL:https://www.bio-austria.at/v/bauern/fachtag-biologische-landwirtschaft/
LOCATION:Landwirtschaftskammer Niederösterreich\, Wiener Straße 64\, 3100 St. Pölten\, Wiener Straße 64\, 3100 St. Pölten\, Österreich Österreich
ATTACH;FMTTYPE=image/jpeg:https://www.bio-austria.at/app/uploads/2022/09/vielfaltswiese.jpg
END:VEVENT
END:VCALENDAR