BEGIN:VCALENDAR
VERSION:2.0
PRODID:-//BIO AUSTRIA - ECPv6.15.20//NONSGML v1.0//EN
CALSCALE:GREGORIAN
METHOD:PUBLISH
X-WR-CALNAME:BIO AUSTRIA
X-ORIGINAL-URL:https://www.bio-austria.at
X-WR-CALDESC:Veranstaltungen für BIO AUSTRIA
REFRESH-INTERVAL;VALUE=DURATION:PT1H
X-Robots-Tag:noindex
X-PUBLISHED-TTL:PT1H
BEGIN:VTIMEZONE
TZID:Europe/Vienna
BEGIN:DAYLIGHT
TZOFFSETFROM:+0100
TZOFFSETTO:+0200
TZNAME:CEST
DTSTART:20240331T010000
END:DAYLIGHT
BEGIN:STANDARD
TZOFFSETFROM:+0200
TZOFFSETTO:+0100
TZNAME:CET
DTSTART:20241027T010000
END:STANDARD
BEGIN:DAYLIGHT
TZOFFSETFROM:+0100
TZOFFSETTO:+0200
TZNAME:CEST
DTSTART:20250330T010000
END:DAYLIGHT
BEGIN:STANDARD
TZOFFSETFROM:+0200
TZOFFSETTO:+0100
TZNAME:CET
DTSTART:20251026T010000
END:STANDARD
BEGIN:DAYLIGHT
TZOFFSETFROM:+0100
TZOFFSETTO:+0200
TZNAME:CEST
DTSTART:20260329T010000
END:DAYLIGHT
BEGIN:STANDARD
TZOFFSETFROM:+0200
TZOFFSETTO:+0100
TZNAME:CET
DTSTART:20261025T010000
END:STANDARD
END:VTIMEZONE
BEGIN:VEVENT
DTSTART;TZID=Europe/Vienna:20251204T083000
DTEND;TZID=Europe/Vienna:20251204T163000
DTSTAMP:20260423T051147
CREATED:20251002T090821Z
LAST-MODIFIED:20251002T090932Z
UID:476531-1764837000-1764865800@www.bio-austria.at
SUMMARY:Fachtagung Almwirtschaft
DESCRIPTION:Der Almfachtag bietet Bewirtschafter:innen von Almen\, Gemeinschaftsweiden und Privatweiden und deren Auftreiber:innen wichtige Informationen zu den Themen Tiergesundheit\, Weidemanagement\, Förderungen und Rechtsthemen in Bezug auf Alm- und Weidewirtschaft. Eine Mischung aus Expert:innen und Praktiker:innen verbindet Theorie und Praxis zu einem sinnvollen Ganzen. Ergänzt wird dieses Fachprogramm mit der Möglichkeit\, in einem Workshop die persönlichen Anliegen als Almbewirtschafter:innen zu deponieren. \n\n\n\nZielgruppe:\n\n\n\nAlmbauern\, Almbäuerinnen\, Halter\, Halterinnen\, Weidebauern und Weidebäuerinnen \n\n\n\nAnrechnung:\n\n\n\n\n2 Stunden für ÖPUL23-BIO\n\n\n\n1 Stunde für QPLUS-LKV Rinder\n\n\n\n2 Stunden für TGD Weiterbildung\n\n\n\n\nKosten:\n\n\n\n\nTeilnahmebeitrag für BIO AUSTRIA Mitglieder: 15€ \n\n\n\nTeilnahmebeitrag gefördert: 20€ \n\n\n\nTeilnahmebeitrag ungefördert: 50€ \n\n\n\n\nAnmeldung:\n\n\n\n\nHier geht es zur Anmeldung
URL:https://www.bio-austria.at/v/bauern/fachtagung-almwirtschaft/
LOCATION:Gemeinde- und Kulturzentrum Rabenstein\, Marktplatz 6\, Rabenstein an der Pielach\, 3203
ATTACH;FMTTYPE=image/jpeg:https://www.bio-austria.at/app/uploads/2023/06/img-4806.jpeg
END:VEVENT
END:VCALENDAR