BEGIN:VCALENDAR
VERSION:2.0
PRODID:-//BIO AUSTRIA - ECPv6.15.20//NONSGML v1.0//EN
CALSCALE:GREGORIAN
METHOD:PUBLISH
X-WR-CALNAME:BIO AUSTRIA
X-ORIGINAL-URL:https://www.bio-austria.at
X-WR-CALDESC:Veranstaltungen für BIO AUSTRIA
REFRESH-INTERVAL;VALUE=DURATION:PT1H
X-Robots-Tag:noindex
X-PUBLISHED-TTL:PT1H
BEGIN:VTIMEZONE
TZID:Europe/Vienna
BEGIN:DAYLIGHT
TZOFFSETFROM:+0100
TZOFFSETTO:+0200
TZNAME:CEST
DTSTART:20240331T010000
END:DAYLIGHT
BEGIN:STANDARD
TZOFFSETFROM:+0200
TZOFFSETTO:+0100
TZNAME:CET
DTSTART:20241027T010000
END:STANDARD
BEGIN:DAYLIGHT
TZOFFSETFROM:+0100
TZOFFSETTO:+0200
TZNAME:CEST
DTSTART:20250330T010000
END:DAYLIGHT
BEGIN:STANDARD
TZOFFSETFROM:+0200
TZOFFSETTO:+0100
TZNAME:CET
DTSTART:20251026T010000
END:STANDARD
BEGIN:DAYLIGHT
TZOFFSETFROM:+0100
TZOFFSETTO:+0200
TZNAME:CEST
DTSTART:20260329T010000
END:DAYLIGHT
BEGIN:STANDARD
TZOFFSETFROM:+0200
TZOFFSETTO:+0100
TZNAME:CET
DTSTART:20261025T010000
END:STANDARD
END:VTIMEZONE
BEGIN:VEVENT
DTSTART;TZID=Europe/Vienna:20250822T160000
DTEND;TZID=Europe/Vienna:20250822T180000
DTSTAMP:20260424T014618
CREATED:20250814T122111Z
LAST-MODIFIED:20250814T122112Z
UID:474053-1755878400-1755885600@www.bio-austria.at
SUMMARY:Feldbegehung Bio-Obstbau (Kernobst: Apfel)
DESCRIPTION:Themen/Programm:\n\n\n\n\nSchnitt\n\n\n\nDüngung\n\n\n\nPflanzenschutz\n\n\n\n\nReferent:\n\n\n\nMag. Karl Waltl\, Bio-Obstbauberater BIO AUSTRIA und LK Steiermark  \n\n\n\nInformationen:\n\n\n\nDiese Veranstaltung ist kostenlos und findet bei jeder Witterung statt!Eine Anmeldung ist nicht erforderlich!
URL:https://www.bio-austria.at/v/bauern/feldbegehung-bio-obstbau-kernobst-apfel-2/
LOCATION:Biohof Simon\, Ortsstraße 55\, Mollram\, 2620\, Österreich
ATTACH;FMTTYPE=image/jpeg:https://www.bio-austria.at/app/uploads/2022/09/titelseite-bioerntesteiermark-konigshofer.jpg
END:VEVENT
END:VCALENDAR