BEGIN:VCALENDAR
VERSION:2.0
PRODID:-//BIO AUSTRIA - ECPv6.15.20//NONSGML v1.0//EN
CALSCALE:GREGORIAN
METHOD:PUBLISH
X-WR-CALNAME:BIO AUSTRIA
X-ORIGINAL-URL:https://www.bio-austria.at
X-WR-CALDESC:Veranstaltungen für BIO AUSTRIA
REFRESH-INTERVAL;VALUE=DURATION:PT1H
X-Robots-Tag:noindex
X-PUBLISHED-TTL:PT1H
BEGIN:VTIMEZONE
TZID:Europe/Vienna
BEGIN:DAYLIGHT
TZOFFSETFROM:+0100
TZOFFSETTO:+0200
TZNAME:CEST
DTSTART:20240331T010000
END:DAYLIGHT
BEGIN:STANDARD
TZOFFSETFROM:+0200
TZOFFSETTO:+0100
TZNAME:CET
DTSTART:20241027T010000
END:STANDARD
BEGIN:DAYLIGHT
TZOFFSETFROM:+0100
TZOFFSETTO:+0200
TZNAME:CEST
DTSTART:20250330T010000
END:DAYLIGHT
BEGIN:STANDARD
TZOFFSETFROM:+0200
TZOFFSETTO:+0100
TZNAME:CET
DTSTART:20251026T010000
END:STANDARD
BEGIN:DAYLIGHT
TZOFFSETFROM:+0100
TZOFFSETTO:+0200
TZNAME:CEST
DTSTART:20260329T010000
END:DAYLIGHT
BEGIN:STANDARD
TZOFFSETFROM:+0200
TZOFFSETTO:+0100
TZNAME:CET
DTSTART:20261025T010000
END:STANDARD
END:VTIMEZONE
BEGIN:VEVENT
DTSTART;TZID=Europe/Vienna:20250514T090000
DTEND;TZID=Europe/Vienna:20250514T130000
DTSTAMP:20260422T183437
CREATED:20250430T093754Z
LAST-MODIFIED:20250430T093755Z
UID:465810-1747213200-1747227600@www.bio-austria.at
SUMMARY:Felderbegehung Kartoffel und Feldgemüse - Vorarlberg
DESCRIPTION:Termin \n\n\n\nMittwoch\, 14. Mai 202509:00 bis 13:00 Uhr \n\n\n\nOrt\n\n\n\nVetterhof – Simon VetterAlberried 146890 Lustenau \n\n\n\nInhalt\n\n\n\nKartoffeln\n\n\n\n\nBeikrautregulierung\n\n\n\nDammaufbau\n\n\n\nKartoffelkäfer\n\n\n\nKrautfäule\n\n\n\nKupfereinsatz\n\n\n\netc.\n\n\n\n\nFeldgemüse\n\n\n\n\nBeikrautregulierung bei Feldgemüse\n\n\n\nAussaat bei Karotten\n\n\n\nPflanzung und Düngung bei Sellerie\n\n\n\nMehltau bei Zwiebel\n\n\n\nAusblick Ernte bei Knoblauch\n\n\n\netc.\n\n\n\n\nReferent\n\n\n\nFranz Haslinger – Kartoffelbauberater BIO AUSTRIA \n\n\n\nWeiterbildungsstunden\n\n\n\n2 ÖPUL-Bio Stunden \n\n\n\nKosten\n\n\n\nBIO AUSTRIA Mitglieder€ 0\,-Nicht-Mitglieder€ 20\,-\n\n\n\nAnmeldung\n\n\n\nEs ist KEINE ANMELDUNG erforderlich!
URL:https://www.bio-austria.at/v/bauern/felderbegehung-kartoffel-und-feldgemuese-vorarlberg/
LOCATION:Vetterhof\, Alberried 14\, Lustenau\, 6890\, Österreich
ATTACH;FMTTYPE=image/jpeg:https://www.bio-austria.at/app/uploads/2022/05/img-0686.jpg
ORGANIZER;CN="Referat Bildung":MAILTO:veranstaltung@bio-austria.at
END:VEVENT
END:VCALENDAR