BEGIN:VCALENDAR
VERSION:2.0
PRODID:-//BIO AUSTRIA - ECPv6.15.20//NONSGML v1.0//EN
CALSCALE:GREGORIAN
METHOD:PUBLISH
X-WR-CALNAME:BIO AUSTRIA
X-ORIGINAL-URL:https://www.bio-austria.at
X-WR-CALDESC:Veranstaltungen für BIO AUSTRIA
REFRESH-INTERVAL;VALUE=DURATION:PT1H
X-Robots-Tag:noindex
X-PUBLISHED-TTL:PT1H
BEGIN:VTIMEZONE
TZID:Europe/Vienna
BEGIN:DAYLIGHT
TZOFFSETFROM:+0100
TZOFFSETTO:+0200
TZNAME:CEST
DTSTART:20240331T010000
END:DAYLIGHT
BEGIN:STANDARD
TZOFFSETFROM:+0200
TZOFFSETTO:+0100
TZNAME:CET
DTSTART:20241027T010000
END:STANDARD
BEGIN:DAYLIGHT
TZOFFSETFROM:+0100
TZOFFSETTO:+0200
TZNAME:CEST
DTSTART:20250330T010000
END:DAYLIGHT
BEGIN:STANDARD
TZOFFSETFROM:+0200
TZOFFSETTO:+0100
TZNAME:CET
DTSTART:20251026T010000
END:STANDARD
BEGIN:DAYLIGHT
TZOFFSETFROM:+0100
TZOFFSETTO:+0200
TZNAME:CEST
DTSTART:20260329T010000
END:DAYLIGHT
BEGIN:STANDARD
TZOFFSETFROM:+0200
TZOFFSETTO:+0100
TZNAME:CET
DTSTART:20261025T010000
END:STANDARD
END:VTIMEZONE
BEGIN:VEVENT
DTSTART;TZID=Europe/Vienna:20250929T190000
DTEND;TZID=Europe/Vienna:20250929T210000
DTSTAMP:20260423T204545
CREATED:20250901T084606Z
LAST-MODIFIED:20250902T105057Z
UID:475001-1759172400-1759179600@www.bio-austria.at
SUMMARY:Frühkartoffel-Sorten Webinar mit Christian Landzettel
DESCRIPTION:Christian Landzettel\, Berater bei Bioland\, prüft seit 13 Jahren neuere Kartoffelsorten unter Bio-Bedingungen. Sie werden in Demo-Streifenversuchen auf verschiedenen Standorten Süddeutschlands angebaut. Auf der jährlichen Bioland Kartoffelsortenschau\, präsentiert er die Ergebnisse der Versuche anhand von Waschprobenmustern. Zusammen mit den Züchtervertretern stellt er auf diese Weise jedes Jahr bis zu 130 Kartoffelsorten vor. Aufbauend auf diesem geballten Wissen stellt er uns zunächst einige\, vor allem noch neuere\, jedoch schon ein paar Jahre bewährte Sorten vor und geht dabei auf deren Stärken und Schwächen bzw. die Eignung für verschiedene Standorte Österreichs ein. Jeweils im Anschluss an die Vorstellung einiger neuerer Sorten öffnen wir die Diskussion für Ihre Fragen rund um das Thema Sortenwahl! \n\n\n\nTermin\n\n\n\nMontag\, 29. September 202519:00  bis 21:00 Uhr \n\n\n\nOrt\n\n\n\nonline via ZOOMDie ZOOM-Zugangsdaten werden nach der Anmeldung per Mail versendet.  \n\n\n\nProgramm\n\n\n\n\nSorten für den Frühkartoffelanbau\n\n\n\n\nEinladung zum Downloaden hier\n\n\n\nReferent\n\n\n\n\nChristian Landzettel – Berater bei Bioland Bayern\n\n\n\n\nWeiterbildungsstunden\n\n\n\n\n2 ÖPUL-Bio Stunden\n\n\n\n\nKosten\n\n\n\nBIO AUSTRIA Mitglieder€ 28\,-Nicht-Mitglieder€ 50\,-\n\n\n\nAnmeldung\n\n\n\nonline hierveranstaltung@bio-austria.at+43 732 654 884 \n\n\n\nDie Anmeldung ist verbindlich. Sollten Sie zum Kurstermin verhindert sein\, ist eine Abmeldung vor Kursbeginn erforderlich. veranstaltung@bio-austria.at
URL:https://www.bio-austria.at/v/bauern/fruehkartoffel-sorten-webinar-mit-christian-landzettel-2/
LOCATION:Zoom online
ATTACH;FMTTYPE=image/png:https://www.bio-austria.at/app/uploads/2025/09/bild.png
ORGANIZER;CN="Referat Bildung":MAILTO:veranstaltung@bio-austria.at
END:VEVENT
END:VCALENDAR