BEGIN:VCALENDAR
VERSION:2.0
PRODID:-//BIO AUSTRIA - ECPv6.15.20//NONSGML v1.0//EN
CALSCALE:GREGORIAN
METHOD:PUBLISH
X-WR-CALNAME:BIO AUSTRIA
X-ORIGINAL-URL:https://www.bio-austria.at
X-WR-CALDESC:Veranstaltungen für BIO AUSTRIA
REFRESH-INTERVAL;VALUE=DURATION:PT1H
X-Robots-Tag:noindex
X-PUBLISHED-TTL:PT1H
BEGIN:VTIMEZONE
TZID:Europe/Vienna
BEGIN:DAYLIGHT
TZOFFSETFROM:+0100
TZOFFSETTO:+0200
TZNAME:CEST
DTSTART:20240331T010000
END:DAYLIGHT
BEGIN:STANDARD
TZOFFSETFROM:+0200
TZOFFSETTO:+0100
TZNAME:CET
DTSTART:20241027T010000
END:STANDARD
BEGIN:DAYLIGHT
TZOFFSETFROM:+0100
TZOFFSETTO:+0200
TZNAME:CEST
DTSTART:20250330T010000
END:DAYLIGHT
BEGIN:STANDARD
TZOFFSETFROM:+0200
TZOFFSETTO:+0100
TZNAME:CET
DTSTART:20251026T010000
END:STANDARD
BEGIN:DAYLIGHT
TZOFFSETFROM:+0100
TZOFFSETTO:+0200
TZNAME:CEST
DTSTART:20260329T010000
END:DAYLIGHT
BEGIN:STANDARD
TZOFFSETFROM:+0200
TZOFFSETTO:+0100
TZNAME:CET
DTSTART:20261025T010000
END:STANDARD
END:VTIMEZONE
BEGIN:VEVENT
DTSTART;TZID=Europe/Vienna:20251023T090000
DTEND;TZID=Europe/Vienna:20251023T160000
DTSTAMP:20260424T162755
CREATED:20250725T072259Z
LAST-MODIFIED:20250728T125548Z
UID:472280-1761210000-1761235200@www.bio-austria.at
SUMMARY:Fütterung und Fruchtbarkeit bei Wiederkäuern
DESCRIPTION:Fehler erkennen und vermeiden\n\n\n\n\n\n\n\n\n\nInhalt\n\n\n\nWiederkäuerverdauung verstehen\, Hinweise zur Fütterung\, fütterungsbedingte Krankheiten wie Blähungen und Stoffwechselstörungen\, Mineralstoffe. Fruchtbarkeit und Zyklus verstehen\, Aufgaben von Gebärmutter und Eierstock\, Zusammenhänge mit der Fütterung. Hinweise auf Behandlungsmethoden mit Schulmedizin\, Homöopathie und Pflanzenheilkunde. Fragenbeantwortung. \n\n\n\nReferent:innen\n\n\n\n\nDr.in Elisabeth Stöger\, Tierärztin\n\n\n\n\nAnrechnung\n\n\n\n5 Stunden ÖPUL Bio \n\n\n\n2 Stunden TGD \n\n\n\nVeranstalter\n\n\n\nDiese Veranstaltung wird von Bio Ernte Steiermark durchgeführt. Es gelten die Allgemeinen Geschäftsbedingungen „Geschäftsfeld Bildung und Beratung Bio Ernte Steiermark“. \n\n\n\nAnmeldung\n\n\n\n\nZur Anmeldung
URL:https://www.bio-austria.at/v/bauern/fuetterung-und-fruchtbarkeit-bei-wiederkaeuern-1-2025/
LOCATION:Gasthaus Albert\, Kirchenviertel 10\, Ratten\, 8673
ATTACH;FMTTYPE=image/jpeg:https://www.bio-austria.at/app/uploads/2025/07/20251023-futterung-und-fruchtbarkeit-bei-wiederkauern-pieber.jpg
END:VEVENT
END:VCALENDAR