BEGIN:VCALENDAR
VERSION:2.0
PRODID:-//BIO AUSTRIA - ECPv6.15.20//NONSGML v1.0//EN
CALSCALE:GREGORIAN
METHOD:PUBLISH
X-WR-CALNAME:BIO AUSTRIA
X-ORIGINAL-URL:https://www.bio-austria.at
X-WR-CALDESC:Veranstaltungen für BIO AUSTRIA
REFRESH-INTERVAL;VALUE=DURATION:PT1H
X-Robots-Tag:noindex
X-PUBLISHED-TTL:PT1H
BEGIN:VTIMEZONE
TZID:Europe/Vienna
BEGIN:DAYLIGHT
TZOFFSETFROM:+0100
TZOFFSETTO:+0200
TZNAME:CEST
DTSTART:20240331T010000
END:DAYLIGHT
BEGIN:STANDARD
TZOFFSETFROM:+0200
TZOFFSETTO:+0100
TZNAME:CET
DTSTART:20241027T010000
END:STANDARD
BEGIN:DAYLIGHT
TZOFFSETFROM:+0100
TZOFFSETTO:+0200
TZNAME:CEST
DTSTART:20250330T010000
END:DAYLIGHT
BEGIN:STANDARD
TZOFFSETFROM:+0200
TZOFFSETTO:+0100
TZNAME:CET
DTSTART:20251026T010000
END:STANDARD
BEGIN:DAYLIGHT
TZOFFSETFROM:+0100
TZOFFSETTO:+0200
TZNAME:CEST
DTSTART:20260329T010000
END:DAYLIGHT
BEGIN:STANDARD
TZOFFSETFROM:+0200
TZOFFSETTO:+0100
TZNAME:CET
DTSTART:20261025T010000
END:STANDARD
END:VTIMEZONE
BEGIN:VEVENT
DTSTART;TZID=Europe/Vienna:20251023T090000
DTEND;TZID=Europe/Vienna:20251023T160000
DTSTAMP:20260423T182203
CREATED:20250904T120244Z
LAST-MODIFIED:20251015T093522Z
UID:475306-1761210000-1761235200@www.bio-austria.at
SUMMARY:ABGESAGT! Futternutzung von Zwischenfrüchten - Energie vom Acker holen
DESCRIPTION:Dieser Kurs musste leider abgesagt werden! \n\n\n\n \n\n\n\nAuch während heißer und trockener Phasen in der Vegetationszeit lassen sich Rinder mit hochwertigen\, energiereichem Futter versorgen – wenn Zwischenfrüchte gezielt zur Beweidung oder Schnittnutzung eingesetzt werden.In diesem Seminar erfahren Sie\, worauf bei der Futternutzung von Zwischenfrüchten zu achten ist\, welche Arten sich besonders eignen und wie Ertrag und Futterqualität optimiert werden können.Der Theorieteil am Vormittag wird durch eine praxisnahe Exkursion am Nachmittag ergänzt – mit konkreten Beispielen direkt am Feld. \n\n\n\nZielgruppe:\n\n\n\nrinderhaltende Betriebe \n\n\n\nReferent:\n\n\n\nDI Manuel Winter \n\n\n\nAnrechnung:\n\n\n\n5 Stunden für ÖPUL23 – BIO \n\n\n\nKosten:\n\n\n\n\nTeilnahmebeitrag für BIO AUSTRIA Mitglieder: 50€\n\n\n\nTeilnahmebeitrag gefördert: 55€\n\n\n\nTeilnahmebeitrag ungefördert: 155€\n\n\n\n\nAnmeldung:\n\n\n\n\nHier geht es zur Anmeldung
URL:https://www.bio-austria.at/v/bauern/futternutzung-von-zwischenfruechten-energie-vom-acker-holen/
LOCATION:Bitter GesbR\, Panoramastraße 17\, Berging\, 3394
ATTACH;FMTTYPE=image/jpeg:https://www.bio-austria.at/app/uploads/2023/03/weidebetrieb-milchkuh.jpg
END:VEVENT
END:VCALENDAR