BEGIN:VCALENDAR
VERSION:2.0
PRODID:-//BIO AUSTRIA - ECPv6.15.20//NONSGML v1.0//EN
CALSCALE:GREGORIAN
METHOD:PUBLISH
X-WR-CALNAME:BIO AUSTRIA
X-ORIGINAL-URL:https://www.bio-austria.at
X-WR-CALDESC:Veranstaltungen für BIO AUSTRIA
REFRESH-INTERVAL;VALUE=DURATION:PT1H
X-Robots-Tag:noindex
X-PUBLISHED-TTL:PT1H
BEGIN:VTIMEZONE
TZID:Europe/Vienna
BEGIN:DAYLIGHT
TZOFFSETFROM:+0100
TZOFFSETTO:+0200
TZNAME:CEST
DTSTART:20250330T010000
END:DAYLIGHT
BEGIN:STANDARD
TZOFFSETFROM:+0200
TZOFFSETTO:+0100
TZNAME:CET
DTSTART:20251026T010000
END:STANDARD
BEGIN:DAYLIGHT
TZOFFSETFROM:+0100
TZOFFSETTO:+0200
TZNAME:CEST
DTSTART:20260329T010000
END:DAYLIGHT
BEGIN:STANDARD
TZOFFSETFROM:+0200
TZOFFSETTO:+0100
TZNAME:CET
DTSTART:20261025T010000
END:STANDARD
BEGIN:DAYLIGHT
TZOFFSETFROM:+0100
TZOFFSETTO:+0200
TZNAME:CEST
DTSTART:20270328T010000
END:DAYLIGHT
BEGIN:STANDARD
TZOFFSETFROM:+0200
TZOFFSETTO:+0100
TZNAME:CET
DTSTART:20271031T010000
END:STANDARD
END:VTIMEZONE
BEGIN:VEVENT
DTSTART;TZID=Europe/Vienna:20260423T093000
DTEND;TZID=Europe/Vienna:20260423T123000
DTSTAMP:20260421T133648
CREATED:20251021T084120Z
LAST-MODIFIED:20260421T071707Z
UID:477692-1776936600-1776947400@www.bio-austria.at
SUMMARY:ABGESAGT! Gräser & Kräuter erkennen\, verstehen\, nutzen: ein Bestimmungskurs für die Praxis
DESCRIPTION:Dieser Kurs musste leider abgesagt werden!Was wächst auf der Wiese und warum genau dort? In diesem Kurs geht es um mehr als nur botanische Namen: Wir zeigen\, wie man typische Gräser und Kräuter sicher bestimmt und was sie über Standort\, Bodenverhältnisse und Bewirtschaftung aussagen. Gleichzeitig beleuchten wir den oft unterschätzten praktischen Nutzen von Wildkräutern – ob als wertvolle Futterpflanze\, als Heilkraut oder in der Ernährung. \n\n\n\nZielgruppe:\n\n\n\nGrünlandbetriebe \n\n\n\nMitzubringen:\n\n\n\nwetterangepasste Kleidung\, Schreibutensilien \n\n\n\nReferentinnen:\n\n\n\n\nDI Martina Löffler\n\n\n\nDI Doris Wimmer\n\n\n\n\nKosten:\n\n\n\n\nTeilnahmebeitrag für BIO AUSTRIA Mitglieder: 30€ \n\n\n\nTeilnahmebeitrag gefördert: 35€ \n\n\n\nTeilnahmebeitrag ungefördert: 100€ \n\n\n\n\nAnmeldung:\n\n\n\n\nHier geht es zur Anmeldung
URL:https://www.bio-austria.at/v/bauern/graeser-kraeuter-erkennen-verstehen-nutzen-ein-bestimmungskurs-fuer-die-praxis-mit-blick-auf-futterwert-standort-und-heilwirkung/
LOCATION:Biohof Günthör\, Artneramt 1\, Nöchling\, 3691
ATTACH;FMTTYPE=image/jpeg:https://www.bio-austria.at/app/uploads/2024/07/bio-krauter.jpg
END:VEVENT
END:VCALENDAR