BEGIN:VCALENDAR
VERSION:2.0
PRODID:-//BIO AUSTRIA - ECPv6.15.20//NONSGML v1.0//EN
CALSCALE:GREGORIAN
METHOD:PUBLISH
X-WR-CALNAME:BIO AUSTRIA
X-ORIGINAL-URL:https://www.bio-austria.at
X-WR-CALDESC:Veranstaltungen für BIO AUSTRIA
REFRESH-INTERVAL;VALUE=DURATION:PT1H
X-Robots-Tag:noindex
X-PUBLISHED-TTL:PT1H
BEGIN:VTIMEZONE
TZID:Europe/Vienna
BEGIN:DAYLIGHT
TZOFFSETFROM:+0100
TZOFFSETTO:+0200
TZNAME:CEST
DTSTART:20240331T010000
END:DAYLIGHT
BEGIN:STANDARD
TZOFFSETFROM:+0200
TZOFFSETTO:+0100
TZNAME:CET
DTSTART:20241027T010000
END:STANDARD
BEGIN:DAYLIGHT
TZOFFSETFROM:+0100
TZOFFSETTO:+0200
TZNAME:CEST
DTSTART:20250330T010000
END:DAYLIGHT
BEGIN:STANDARD
TZOFFSETFROM:+0200
TZOFFSETTO:+0100
TZNAME:CET
DTSTART:20251026T010000
END:STANDARD
BEGIN:DAYLIGHT
TZOFFSETFROM:+0100
TZOFFSETTO:+0200
TZNAME:CEST
DTSTART:20260329T010000
END:DAYLIGHT
BEGIN:STANDARD
TZOFFSETFROM:+0200
TZOFFSETTO:+0100
TZNAME:CET
DTSTART:20261025T010000
END:STANDARD
END:VTIMEZONE
BEGIN:VEVENT
DTSTART;TZID=Europe/Vienna:20251107T090000
DTEND;TZID=Europe/Vienna:20251107T160000
DTSTAMP:20260424T160409
CREATED:20250725T083110Z
LAST-MODIFIED:20250725T083111Z
UID:472306-1762506000-1762531200@www.bio-austria.at
SUMMARY:Grünland- und Viehwirtschaftstag
DESCRIPTION:Abgestufte Grünlandnutzung\, Futterkonservierung\n\n\n\n\n\n\n\n\n\nInhalt\n\n\n\nBei der abgestuften Grünlandbewirtschaftung wird die Bewirtschaftungsintensität (Nutzung und Düngung) an die jeweiligen schlagbezogenen Standortbedingungen angepasst. Man erreicht damit unterschiedliche Futterqualitäten\, sowohl Leistungsfutter für laktierende Tiere als auch rohfaserreicheres\, artenreicheres Futter für Jungvieh und trockenstehende Tiere. Hochwertiges Grundfutter wird von den Tieren gerne gefressen. Doch wie erkenne und erzeuge ich hochwertiges Grundfutter? Wie kann die Grundfutterwerbung und -konservierung am Betrieb optimiert werden? \n\n\n\nReferent:innen\n\n\n\n\nDr. Wolfgang Angeringer\, Biozentrum Steiermark\n\n\n\nIng. Reinhard Resch\, HBLFA Raumberg Gumpenstein\n\n\n\n\nAnrechnung\n\n\n\n5 Stunden ÖPUL Bio \n\n\n\nVeranstalter\n\n\n\nDiese Veranstaltung wird von Bio Ernte Steiermark durchgeführt. Es gelten die Allgemeinen Geschäftsbedingungen „Geschäftsfeld Bildung und Beratung Bio Ernte Steiermark“. \n\n\n\nAnmeldung\n\n\n\n\nZur Anmeldung
URL:https://www.bio-austria.at/v/bauern/gruenland-viehwirtschaftstag-2-2025/
LOCATION:Gasthaus Stocker\, Furth 16\, St. Peter ob Judenburg\, Steiermark\, 8755\, Österreich
ATTACH;FMTTYPE=image/jpeg:https://www.bio-austria.at/app/uploads/2025/07/grunland-viehwirtschaftstag-futterkonserve-c-georg-neumann.jpg
END:VEVENT
END:VCALENDAR