BEGIN:VCALENDAR
VERSION:2.0
PRODID:-//BIO AUSTRIA - ECPv6.15.20//NONSGML v1.0//EN
CALSCALE:GREGORIAN
METHOD:PUBLISH
X-WR-CALNAME:BIO AUSTRIA
X-ORIGINAL-URL:https://www.bio-austria.at
X-WR-CALDESC:Veranstaltungen für BIO AUSTRIA
REFRESH-INTERVAL;VALUE=DURATION:PT1H
X-Robots-Tag:noindex
X-PUBLISHED-TTL:PT1H
BEGIN:VTIMEZONE
TZID:Europe/Vienna
BEGIN:DAYLIGHT
TZOFFSETFROM:+0100
TZOFFSETTO:+0200
TZNAME:CEST
DTSTART:20240331T010000
END:DAYLIGHT
BEGIN:STANDARD
TZOFFSETFROM:+0200
TZOFFSETTO:+0100
TZNAME:CET
DTSTART:20241027T010000
END:STANDARD
BEGIN:DAYLIGHT
TZOFFSETFROM:+0100
TZOFFSETTO:+0200
TZNAME:CEST
DTSTART:20250330T010000
END:DAYLIGHT
BEGIN:STANDARD
TZOFFSETFROM:+0200
TZOFFSETTO:+0100
TZNAME:CET
DTSTART:20251026T010000
END:STANDARD
BEGIN:DAYLIGHT
TZOFFSETFROM:+0100
TZOFFSETTO:+0200
TZNAME:CEST
DTSTART:20260329T010000
END:DAYLIGHT
BEGIN:STANDARD
TZOFFSETFROM:+0200
TZOFFSETTO:+0100
TZNAME:CET
DTSTART:20261025T010000
END:STANDARD
END:VTIMEZONE
BEGIN:VEVENT
DTSTART;TZID=Europe/Vienna:20251016T090000
DTEND;TZID=Europe/Vienna:20251016T150000
DTSTAMP:20260423T014141
CREATED:20251007T120109Z
LAST-MODIFIED:20251007T122655Z
UID:476874-1760605200-1760626800@www.bio-austria.at
SUMMARY:Husten und Lungenerkrankung bei Rindern/Stockenboi
DESCRIPTION:Die Lunge verstehen – Krankheiten vermeiden: Anatomie der Lunge\, Ursachen für Lungenerkrankungen\, häufige Krankheitserreger\, Viren und Bakterien. Symptome früh erkennen\, den Krankheitsverlauf richtig einschätzen. Schulmedizinische Behandlungsmöglichkeiten. Wann braucht das Tier eine tierärztliche Behandlung? Wie kann es mit Heilpflanzen und Homöopathie unterstützt werden? \n\n\n\nAnrechnung: 3 Std. ÖPUL23-BIO und TGD 2 Std. \n\n\n\nReferentin: Dr. Elisabeth Stöger (Tierärztin) \n\n\n\nAnmeldung bei BIO AUSTRIA Kärnten unter 0463/5850-5400 oder online beim LFI Kärnten bis zum 13.Oktober \n\n\n\n\nOnline Anmeldung
URL:https://www.bio-austria.at/v/bauern/husten-und-lungenerkrankung-bei-rindern-stockenboi/
LOCATION:GH Mauthner\, Mauthbrücken 9\, Stockenboi\, 9701
ATTACH;FMTTYPE=image/jpeg:https://www.bio-austria.at/app/uploads/2024/07/gesundheitscheck-rinderstall.jpg
END:VEVENT
END:VCALENDAR