BEGIN:VCALENDAR
VERSION:2.0
PRODID:-//BIO AUSTRIA - ECPv6.15.20//NONSGML v1.0//EN
CALSCALE:GREGORIAN
METHOD:PUBLISH
X-WR-CALNAME:BIO AUSTRIA
X-ORIGINAL-URL:https://www.bio-austria.at
X-WR-CALDESC:Veranstaltungen für BIO AUSTRIA
REFRESH-INTERVAL;VALUE=DURATION:PT1H
X-Robots-Tag:noindex
X-PUBLISHED-TTL:PT1H
BEGIN:VTIMEZONE
TZID:Europe/Vienna
BEGIN:DAYLIGHT
TZOFFSETFROM:+0100
TZOFFSETTO:+0200
TZNAME:CEST
DTSTART:20240331T010000
END:DAYLIGHT
BEGIN:STANDARD
TZOFFSETFROM:+0200
TZOFFSETTO:+0100
TZNAME:CET
DTSTART:20241027T010000
END:STANDARD
BEGIN:DAYLIGHT
TZOFFSETFROM:+0100
TZOFFSETTO:+0200
TZNAME:CEST
DTSTART:20250330T010000
END:DAYLIGHT
BEGIN:STANDARD
TZOFFSETFROM:+0200
TZOFFSETTO:+0100
TZNAME:CET
DTSTART:20251026T010000
END:STANDARD
BEGIN:DAYLIGHT
TZOFFSETFROM:+0100
TZOFFSETTO:+0200
TZNAME:CEST
DTSTART:20260329T010000
END:DAYLIGHT
BEGIN:STANDARD
TZOFFSETFROM:+0200
TZOFFSETTO:+0100
TZNAME:CET
DTSTART:20261025T010000
END:STANDARD
END:VTIMEZONE
BEGIN:VEVENT
DTSTART;TZID=Europe/Vienna:20251111T183000
DTEND;TZID=Europe/Vienna:20251111T210000
DTSTAMP:20260422T202751
CREATED:20251014T093149Z
LAST-MODIFIED:20251016T121246Z
UID:477251-1762885800-1762894800@www.bio-austria.at
SUMMARY:Klimafitter Feldfutterbau
DESCRIPTION:Programm\n\n\n\n\nSortenwahl für Trockengebiete und Wetterextreme\n\n\n\nBeweidung von leguminosenreichem Futter\n\n\n\nErkenntnisse und Erfahrungen über Kräutermischungen\n\n\n\nEinfluss von Bodenart\, Hummusgehalt und Durchwurzelung aufWasserspeicherung\n\n\n\nBeispielhaftes Zusammenstellen einer standortangepasstenSaatgutmischung\n\n\n\n\nTermin\n\n\n\nDienstag\, 11. November 202518:30 bis 21:00 Uhr \n\n\n\nOrt\n\n\n\nonline via ZOOMDie ZOOM-Zugangsdaten erhalten Sie nach der Anmeldung per mail.  \n\n\n\nReferenten\n\n\n\n\nManuel Winter – Berater\n\n\n\nManuel Böhm – Berater\n\n\n\n\nWeiterbildungsstunden\n\n\n\n\n2 ÖPUL-Bio Stunden\n\n\n\n\nKosten\n\n\n\nBIO AUSTRIA Mitglieder€ 22\,-Nicht-Mitglieder€ 40\,-ungefördert (ohne LFBIS)€ 79\,-\n\n\n\n \n\n\n\nProgramm zum Download hier\n\n\n\n \n\n\n\nAnmeldung\n\n\n\n\nonline hier\n\n\n\n\nveranstaltung@bio-austria.at+43 732 654 884
URL:https://www.bio-austria.at/v/bauern/klimafitter-feldfutterbau/
LOCATION:Zoom online
ATTACH;FMTTYPE=image/jpeg:https://www.bio-austria.at/app/uploads/2023/08/mit-feldfutter-koennen-ausserordentlich-gute-ertraege-erreicht-werden-kopie.jpg
ORGANIZER;CN="Referat Bildung":MAILTO:veranstaltung@bio-austria.at
END:VEVENT
END:VCALENDAR