BEGIN:VCALENDAR
VERSION:2.0
PRODID:-//BIO AUSTRIA - ECPv6.15.20//NONSGML v1.0//EN
CALSCALE:GREGORIAN
METHOD:PUBLISH
X-WR-CALNAME:BIO AUSTRIA
X-ORIGINAL-URL:https://www.bio-austria.at
X-WR-CALDESC:Veranstaltungen für BIO AUSTRIA
REFRESH-INTERVAL;VALUE=DURATION:PT1H
X-Robots-Tag:noindex
X-PUBLISHED-TTL:PT1H
BEGIN:VTIMEZONE
TZID:Europe/Vienna
BEGIN:DAYLIGHT
TZOFFSETFROM:+0100
TZOFFSETTO:+0200
TZNAME:CEST
DTSTART:20240331T010000
END:DAYLIGHT
BEGIN:STANDARD
TZOFFSETFROM:+0200
TZOFFSETTO:+0100
TZNAME:CET
DTSTART:20241027T010000
END:STANDARD
BEGIN:DAYLIGHT
TZOFFSETFROM:+0100
TZOFFSETTO:+0200
TZNAME:CEST
DTSTART:20250330T010000
END:DAYLIGHT
BEGIN:STANDARD
TZOFFSETFROM:+0200
TZOFFSETTO:+0100
TZNAME:CET
DTSTART:20251026T010000
END:STANDARD
BEGIN:DAYLIGHT
TZOFFSETFROM:+0100
TZOFFSETTO:+0200
TZNAME:CEST
DTSTART:20260329T010000
END:DAYLIGHT
BEGIN:STANDARD
TZOFFSETFROM:+0200
TZOFFSETTO:+0100
TZNAME:CET
DTSTART:20261025T010000
END:STANDARD
END:VTIMEZONE
BEGIN:VEVENT
DTSTART;TZID=Europe/Vienna:20251028T183000
DTEND;TZID=Europe/Vienna:20251028T210000
DTSTAMP:20260422T203058
CREATED:20251014T065915Z
LAST-MODIFIED:20251028T121645Z
UID:477211-1761676200-1761685200@www.bio-austria.at
SUMMARY:Klimafittes Grünland II - Webinar
DESCRIPTION:Eine ganze Reihe von Webinaren beschäftigt sich in den kommenden Wochen mit dem klimafitten Grünland. Nachfolgende Themen werden in diesem Termin diskutiert. \n\n\n\nThemen \n\n\n\n\nEinführung in die abgestufte Wiesennutzung\n\n\n\nZum Betrieb passende Nutzungsstufen planen\n\n\n\nZiel-Pflanzenbestände festlegen und diese pflanzenbaulich fördern\n\n\n\nEngerling ≠ Engerling – Maikäfer\, Junikäfer und Co (Unterscheidung und Entwicklungszyklen)\n\n\n\nBekämpfungsstrategien\n\n\n\nMaßnahmen in der Grünlandbewirtschaftung\n\n\n\n\nTermin\n\n\n\nDienstag\, 28. Oktober 202518:30 bis 21:00 Uhr \n\n\n\nOrt\n\n\n\nonline via ZOOMDie ZOOM-Zugangsdaten werden nach der Anmeldung per mail versendet.  \n\n\n\nReferenten\n\n\n\n\nWolfgang Angeringer – LK-Steiermark\n\n\n\nStefan Rudlstorfer – LK-Oberösterreich\n\n\n\n\nWeiterbildungsstunden\n\n\n\n\n1 ÖPUL-Bio Stunde\n\n\n\n1 ÖPUL-Biodiversitäts-Stunde\n\n\n\n\nKosten\n\n\n\nBIO AUSTRIA Mitglieder€ 22\,-Nicht-Mitglieder€ 40\,-ungefördert (ohne LFBIS)€ 79\,-\n\n\n\n \n\n\n\nEinladung zum Download\n\n\n\n \n\n\n\nAnmeldung\n\n\n\n\nonline hier\n\n\n\n\n \n\n\n\nveranstaltung@bio-austria.at \n\n\n\n+43 732 654 884 \n\n\n\nBitte beachten Sie\, dass Ihre Anmeldung verbindlich ist.Sollten Sie zum Kurstermin verhindert sein\, ist eine Abmeldung vor Kursbeginn erforderlich. veranstaltung@bio-austria.at
URL:https://www.bio-austria.at/v/bauern/klimafittes-gruenland-ii/
LOCATION:Zoom online
ATTACH;FMTTYPE=image/jpeg:https://www.bio-austria.at/app/uploads/2024/07/abgestufter-wiesenbau.jpg
ORGANIZER;CN="Referat Bildung":MAILTO:veranstaltung@bio-austria.at
END:VEVENT
END:VCALENDAR