BEGIN:VCALENDAR
VERSION:2.0
PRODID:-//BIO AUSTRIA - ECPv6.15.20//NONSGML v1.0//EN
CALSCALE:GREGORIAN
METHOD:PUBLISH
X-WR-CALNAME:BIO AUSTRIA
X-ORIGINAL-URL:https://www.bio-austria.at
X-WR-CALDESC:Veranstaltungen für BIO AUSTRIA
REFRESH-INTERVAL;VALUE=DURATION:PT1H
X-Robots-Tag:noindex
X-PUBLISHED-TTL:PT1H
BEGIN:VTIMEZONE
TZID:Europe/Vienna
BEGIN:DAYLIGHT
TZOFFSETFROM:+0100
TZOFFSETTO:+0200
TZNAME:CEST
DTSTART:20240331T010000
END:DAYLIGHT
BEGIN:STANDARD
TZOFFSETFROM:+0200
TZOFFSETTO:+0100
TZNAME:CET
DTSTART:20241027T010000
END:STANDARD
BEGIN:DAYLIGHT
TZOFFSETFROM:+0100
TZOFFSETTO:+0200
TZNAME:CEST
DTSTART:20250330T010000
END:DAYLIGHT
BEGIN:STANDARD
TZOFFSETFROM:+0200
TZOFFSETTO:+0100
TZNAME:CET
DTSTART:20251026T010000
END:STANDARD
BEGIN:DAYLIGHT
TZOFFSETFROM:+0100
TZOFFSETTO:+0200
TZNAME:CEST
DTSTART:20260329T010000
END:DAYLIGHT
BEGIN:STANDARD
TZOFFSETFROM:+0200
TZOFFSETTO:+0100
TZNAME:CET
DTSTART:20261025T010000
END:STANDARD
END:VTIMEZONE
BEGIN:VEVENT
DTSTART;TZID=Europe/Vienna:20251217T090000
DTEND;TZID=Europe/Vienna:20251217T130000
DTSTAMP:20260422T214908
CREATED:20251013T093700Z
LAST-MODIFIED:20251013T094806Z
UID:477177-1765962000-1765976400@www.bio-austria.at
SUMMARY:Kuhkomfort in der Praxis (Zwettl)
DESCRIPTION:Tierwohl\, Gesundheit und Leistung der Milchkühe stehen in direktem Zusammenhang mit dem Komfort im Stall. In dieser praxisnahen Veranstaltung analysieren wir direkt vor Ort im Milchviehstall zentrale Faktoren\, die den Kuhkomfort beeinflussen. Ziel ist es\, durch gezielte Beobachtung und praktische Tipps Verbesserungsmöglichkeiten am eigenen Betrieb zu erkennen und umzusetzen. \n\n\n\nZielgruppe:\n\n\n\nMilchviehhalter:innen \n\n\n\nReferenten:\n\n\n\n\nDr. Marco Horn\n\n\n\nIng. Florian Staudinger\n\n\n\n\nAnrechnung:\n\n\n\n\n3 Stunden ÖPUL23 – BIO\n\n\n\n1 Stunde QPLUS-LKV Rinder\n\n\n\n1 Stunde für TGD \n\n\n\n\nKosten:\n\n\n\n\nTeilnahmebeitrag gefördert: 40€\n\n\n\nTeilnahmebeitrag ungefördert: 120€\n\n\n\n\nWeitere Informationen und Anmeldung:\n\n\n\n\nHier geht es zur Anmeldung
URL:https://www.bio-austria.at/v/bauern/kuhkomfort-in-der-praxis/
LOCATION:Landwirtschaftliche Fachschule Edelhof\, Edelhof 1\, Zwettl\, 3910\, Austria
ATTACH;FMTTYPE=image/jpeg:https://www.bio-austria.at/app/uploads/2025/07/113-bio-milchkuhbetriebe-stellen-ihre-betrieb.jpg
END:VEVENT
END:VCALENDAR