BEGIN:VCALENDAR
VERSION:2.0
PRODID:-//BIO AUSTRIA - ECPv6.15.20//NONSGML v1.0//EN
CALSCALE:GREGORIAN
METHOD:PUBLISH
X-WR-CALNAME:BIO AUSTRIA
X-ORIGINAL-URL:https://www.bio-austria.at
X-WR-CALDESC:Veranstaltungen für BIO AUSTRIA
REFRESH-INTERVAL;VALUE=DURATION:PT1H
X-Robots-Tag:noindex
X-PUBLISHED-TTL:PT1H
BEGIN:VTIMEZONE
TZID:Europe/Vienna
BEGIN:DAYLIGHT
TZOFFSETFROM:+0100
TZOFFSETTO:+0200
TZNAME:CEST
DTSTART:20240331T010000
END:DAYLIGHT
BEGIN:STANDARD
TZOFFSETFROM:+0200
TZOFFSETTO:+0100
TZNAME:CET
DTSTART:20241027T010000
END:STANDARD
BEGIN:DAYLIGHT
TZOFFSETFROM:+0100
TZOFFSETTO:+0200
TZNAME:CEST
DTSTART:20250330T010000
END:DAYLIGHT
BEGIN:STANDARD
TZOFFSETFROM:+0200
TZOFFSETTO:+0100
TZNAME:CET
DTSTART:20251026T010000
END:STANDARD
BEGIN:DAYLIGHT
TZOFFSETFROM:+0100
TZOFFSETTO:+0200
TZNAME:CEST
DTSTART:20260329T010000
END:DAYLIGHT
BEGIN:STANDARD
TZOFFSETFROM:+0200
TZOFFSETTO:+0100
TZNAME:CET
DTSTART:20261025T010000
END:STANDARD
END:VTIMEZONE
BEGIN:VEVENT
DTSTART;TZID=Europe/Vienna:20251126T084500
DTEND;TZID=Europe/Vienna:20251126T163000
DTSTAMP:20260423T035612
CREATED:20251002T110905Z
LAST-MODIFIED:20251002T110907Z
UID:476591-1764146700-1764174600@www.bio-austria.at
SUMMARY:Mehr Erfolg im Kuhstall (Warth\, Neunkirchen)
DESCRIPTION:Die laufende Entwicklung in der Landwirtschaft stellt hohe Anforderungen an die Betriebsleitung und das tägliche Management. Bei diesen Veranstaltungen erhalten interessierte Rinderzüchter:innen und Milchviehhalter:innen wertvolle Anregungen zu den Themen: Fütterung der Milchkuh\, Herdenmanagement (Drenchen der Kuh bzw. des Kalbes)\, erfolgreiche Kälberaufzucht bzw. Betriebsentwicklung und Lebensqualität. \n\n\n\nZielgruppe:\n\n\n\nMilchviehhalter:innen \n\n\n\nReferent:innen:\n\n\n\n\nDI Franz Tiefenthaller\n\n\n\nDr. Peter Hamedinger\n\n\n\nMag. Alexander Karl\n\n\n\nDr. Ingrid Lorenz\n\n\n\nDr. Kathrin Zechner\n\n\n\n\nAnrechnung:\n\n\n\n\n2 Stunden für ÖPUL23-BIO\n\n\n\n1 Stunde für QPLUS-LKV Rinder\n\n\n\n2 Stunden für TGD\n\n\n\n\nKosten:\n\n\n\n\nTeilnahmebeitrag gefördert: 30€\, Frühbucherbonus bis 19.11.25 danach 35€\n\n\n\nTeilnahmebeitrag ungefördert: 80€\n\n\n\n\nWeitere Informationen und Anmeldung:\n\n\n\n\nHier geht es zur Anmeldung
URL:https://www.bio-austria.at/v/bauern/mehr-erfolg-im-kuhstall-warth-neunkirchen/
LOCATION:Landwirtschaftliche Fachschule Warth\, Aichhof 1\, Warth\, 2831\, Austria
ATTACH;FMTTYPE=image/jpeg:https://www.bio-austria.at/app/uploads/2020/09/laufstall_img_20191108_112325_c-ba_promegger.jpg
END:VEVENT
END:VCALENDAR