BEGIN:VCALENDAR
VERSION:2.0
PRODID:-//BIO AUSTRIA - ECPv6.15.20//NONSGML v1.0//EN
CALSCALE:GREGORIAN
METHOD:PUBLISH
X-WR-CALNAME:BIO AUSTRIA
X-ORIGINAL-URL:https://www.bio-austria.at
X-WR-CALDESC:Veranstaltungen für BIO AUSTRIA
REFRESH-INTERVAL;VALUE=DURATION:PT1H
X-Robots-Tag:noindex
X-PUBLISHED-TTL:PT1H
BEGIN:VTIMEZONE
TZID:Europe/Vienna
BEGIN:DAYLIGHT
TZOFFSETFROM:+0100
TZOFFSETTO:+0200
TZNAME:CEST
DTSTART:20250330T010000
END:DAYLIGHT
BEGIN:STANDARD
TZOFFSETFROM:+0200
TZOFFSETTO:+0100
TZNAME:CET
DTSTART:20251026T010000
END:STANDARD
BEGIN:DAYLIGHT
TZOFFSETFROM:+0100
TZOFFSETTO:+0200
TZNAME:CEST
DTSTART:20260329T010000
END:DAYLIGHT
BEGIN:STANDARD
TZOFFSETFROM:+0200
TZOFFSETTO:+0100
TZNAME:CET
DTSTART:20261025T010000
END:STANDARD
BEGIN:DAYLIGHT
TZOFFSETFROM:+0100
TZOFFSETTO:+0200
TZNAME:CEST
DTSTART:20270328T010000
END:DAYLIGHT
BEGIN:STANDARD
TZOFFSETFROM:+0200
TZOFFSETTO:+0100
TZNAME:CET
DTSTART:20271031T010000
END:STANDARD
END:VTIMEZONE
BEGIN:VEVENT
DTSTART;TZID=Europe/Vienna:20260306T090000
DTEND;TZID=Europe/Vienna:20260306T160000
DTSTAMP:20260421T103740
CREATED:20250728T103747Z
LAST-MODIFIED:20250728T103748Z
UID:472410-1772787600-1772812800@www.bio-austria.at
SUMMARY:Mensch-Tier-Beziehung - Aufbaukurs
DESCRIPTION:Inhalt\n\n\n\nIm Aufbaukurs stehen die fünf Sinne der Tiere im Mittelpunkt – und wie sie im Umgang mit Rindern sinnvoll genutzt werden können. Ein Rückblick und Erfahrungsaustausch zum ersten Kursteil bietet Raum für Reflexion. Im Praxisteil werden verschiedene Strickhalfter angelegt\, Beruhigungs- und Behandlungspunkte gezeigt sowie Techniken zum sicheren Einfangen und Fixieren mit dem Seil vermittelt. Je nach Zeit wird speziell für Mutterkuhbetriebe das Einfangen und Verladen auf der Weide mit Absperrband besprochen. Tierwohl nach BIO AUSTRIAStandard bildet die Grundlage aller Inhalte. \n\n\n\nReferent:innen\n\n\n\n\nDI Christoph Mairinger\, SVS\n\n\n\n\nAnrechnung\n\n\n\n2 Stunden TGD \n\n\n\nVeranstalter\n\n\n\nDiese Veranstaltung wird von Bio Ernte Steiermark durchgeführt. Es gelten die Allgemeinen Geschäftsbedingungen „Geschäftsfeld Bildung und Beratung Bio Ernte Steiermark“. \n\n\n\nAnmeldung\n\n\n\n\nZur Anmeldung
URL:https://www.bio-austria.at/v/bauern/mensch-tier-beziehung-aufbaukurs-2025-2/
LOCATION:Gasthaus Moser\, Klachau 43\, Tauplitz\, 8982
ATTACH;FMTTYPE=image/jpeg:https://www.bio-austria.at/app/uploads/2025/07/kurs-mensch-tier-beziehung-bio-ernte-steiermark.jpg
END:VEVENT
END:VCALENDAR