BEGIN:VCALENDAR
VERSION:2.0
PRODID:-//BIO AUSTRIA - ECPv6.15.20//NONSGML v1.0//EN
CALSCALE:GREGORIAN
METHOD:PUBLISH
X-WR-CALNAME:BIO AUSTRIA
X-ORIGINAL-URL:https://www.bio-austria.at
X-WR-CALDESC:Veranstaltungen für BIO AUSTRIA
REFRESH-INTERVAL;VALUE=DURATION:PT1H
X-Robots-Tag:noindex
X-PUBLISHED-TTL:PT1H
BEGIN:VTIMEZONE
TZID:Europe/Vienna
BEGIN:DAYLIGHT
TZOFFSETFROM:+0100
TZOFFSETTO:+0200
TZNAME:CEST
DTSTART:20240331T010000
END:DAYLIGHT
BEGIN:STANDARD
TZOFFSETFROM:+0200
TZOFFSETTO:+0100
TZNAME:CET
DTSTART:20241027T010000
END:STANDARD
BEGIN:DAYLIGHT
TZOFFSETFROM:+0100
TZOFFSETTO:+0200
TZNAME:CEST
DTSTART:20250330T010000
END:DAYLIGHT
BEGIN:STANDARD
TZOFFSETFROM:+0200
TZOFFSETTO:+0100
TZNAME:CET
DTSTART:20251026T010000
END:STANDARD
BEGIN:DAYLIGHT
TZOFFSETFROM:+0100
TZOFFSETTO:+0200
TZNAME:CEST
DTSTART:20260329T010000
END:DAYLIGHT
BEGIN:STANDARD
TZOFFSETFROM:+0200
TZOFFSETTO:+0100
TZNAME:CET
DTSTART:20261025T010000
END:STANDARD
END:VTIMEZONE
BEGIN:VEVENT
DTSTART;TZID=Europe/Vienna:20251106T090000
DTEND;TZID=Europe/Vienna:20251106T120000
DTSTAMP:20260423T040312
CREATED:20251002T093537Z
LAST-MODIFIED:20251002T093910Z
UID:476559-1762419600-1762430400@www.bio-austria.at
SUMMARY:Milchwirtschaftliche Fachtagung - Biberbach
DESCRIPTION:Aktuelle Informationen im milchwirtschaftlichen Bereich erleichtern betriebliche Entscheidungen und sind die Voraussetzung\, um Strategien für die Zukunft zu entwickeln. Themenschwerpunkt der Veranstaltung ist das selektive Trockenstellen am Betrieb. Sie erhalten auch Einblick in die neuesten Trends und Entwicklungen am Milchmarkt (Anlieferung\, Absatz\, Milchpreis). Neben marktwirtschaftlichen Inhalten werden Milchprodukte präsentiert und Wissen über Milchprodukte vermittelt. \n\n\n\nZielgruppe:\n\n\n\nMilchviehhalter:innen \n\n\n\nReferent:innen:\n\n\n\n\nJohanna Mandl\n\n\n\nIng. Florian Staudinger\n\n\n\n\nAnrechnung:\n\n\n\n\n1 Stunde für ÖPUL23-BIO\n\n\n\n1 Stunden für QPLUS-LKV Rinder\n\n\n\n1 Stunden für TGD\n\n\n\n\nKosten:\n\n\n\n\nTeilnahmebeitrag gefördert: 20€\n\n\n\nTeilnahmebeitrag ungefördert: 50€\n\n\n\n\nWeitere Informationen und Anmeldung:\n\n\n\n\nHier geht es zur Anmeldung
URL:https://www.bio-austria.at/v/bauern/milchwirtschaftliche-fachtagung-biberbach/
LOCATION:Gasthaus Kappl\, Im Ort 11\, Biberbach\, 3353
ATTACH;FMTTYPE=image/jpeg:https://www.bio-austria.at/app/uploads/2021/03/Milchkanne-3-edited.jpg
END:VEVENT
END:VCALENDAR