BEGIN:VCALENDAR
VERSION:2.0
PRODID:-//BIO AUSTRIA - ECPv6.15.20//NONSGML v1.0//EN
CALSCALE:GREGORIAN
METHOD:PUBLISH
X-WR-CALNAME:BIO AUSTRIA
X-ORIGINAL-URL:https://www.bio-austria.at
X-WR-CALDESC:Veranstaltungen für BIO AUSTRIA
REFRESH-INTERVAL;VALUE=DURATION:PT1H
X-Robots-Tag:noindex
X-PUBLISHED-TTL:PT1H
BEGIN:VTIMEZONE
TZID:Europe/Vienna
BEGIN:DAYLIGHT
TZOFFSETFROM:+0100
TZOFFSETTO:+0200
TZNAME:CEST
DTSTART:20240331T010000
END:DAYLIGHT
BEGIN:STANDARD
TZOFFSETFROM:+0200
TZOFFSETTO:+0100
TZNAME:CET
DTSTART:20241027T010000
END:STANDARD
BEGIN:DAYLIGHT
TZOFFSETFROM:+0100
TZOFFSETTO:+0200
TZNAME:CEST
DTSTART:20250330T010000
END:DAYLIGHT
BEGIN:STANDARD
TZOFFSETFROM:+0200
TZOFFSETTO:+0100
TZNAME:CET
DTSTART:20251026T010000
END:STANDARD
BEGIN:DAYLIGHT
TZOFFSETFROM:+0100
TZOFFSETTO:+0200
TZNAME:CEST
DTSTART:20260329T010000
END:DAYLIGHT
BEGIN:STANDARD
TZOFFSETFROM:+0200
TZOFFSETTO:+0100
TZNAME:CET
DTSTART:20261025T010000
END:STANDARD
END:VTIMEZONE
BEGIN:VEVENT
DTSTART;TZID=Europe/Vienna:20251112T130000
DTEND;TZID=Europe/Vienna:20251112T170000
DTSTAMP:20260422T100215
CREATED:20251029T121625Z
LAST-MODIFIED:20251029T121752Z
UID:478161-1762952400-1762966800@www.bio-austria.at
SUMMARY:Praktikertag Bio-Schweinehaltung
DESCRIPTION:Das vergangene Jahrzehnt der Bio-Schweinehaltung war geprägt von einem gesunden Wachstum der Branche und zunehmender Professionalisierung der Betriebe. Zwar haben sich mittlerweile einige Standardlösungen etabliert\, trotzdem zeigen sich die Betriebe in der Praxis weiterhin sehr vielfältig. Im Zuge des Praktikertags bietet sich die Möglichkeit einige ausgewählte Beispiele aus Sauenhaltung und Schweinemast zu besichtigen und mit den Landwirt:innen neben Stallbau und Technik auch die Umsetzung von Fütterung und Management zu diskutieren. \n\n\n\nTreffpunkt:\n\n\n\nPark & Ride Gföhl\, Langenloiser Straße\, 3542 Gföhl \n\n\n\nZielgruppe:\n\n\n\nBio-Schweinehalter:innen und Interessierte \n\n\n\nReferent:\n\n\n\nHelmuth Raser \n\n\n\nKosten:\n\n\n\n\nTeilnahmebeitrag gefördert: 55€\n\n\n\nTeilnahmebeitrag ungefördert: 140€\n\n\n\n\nAnrechnung:\n\n\n\n\n2 Stunden für ÖPUL23 – BIO\n\n\n\n1 Stunde für TGD\n\n\n\n\nWeitere Informationen und Anmeldung:\n\n\n\n\nHier geht es zur Anmeldung
URL:https://www.bio-austria.at/v/bauern/praktikertag-bio-schweinehaltung/
ATTACH;FMTTYPE=image/jpeg:https://www.bio-austria.at/app/uploads/160318BioJungsauenSindVerfuegbar.jpg
END:VEVENT
END:VCALENDAR