BEGIN:VCALENDAR
VERSION:2.0
PRODID:-//BIO AUSTRIA - ECPv6.15.20//NONSGML v1.0//EN
CALSCALE:GREGORIAN
METHOD:PUBLISH
X-WR-CALNAME:BIO AUSTRIA
X-ORIGINAL-URL:https://www.bio-austria.at
X-WR-CALDESC:Veranstaltungen für BIO AUSTRIA
REFRESH-INTERVAL;VALUE=DURATION:PT1H
X-Robots-Tag:noindex
X-PUBLISHED-TTL:PT1H
BEGIN:VTIMEZONE
TZID:Europe/Vienna
BEGIN:DAYLIGHT
TZOFFSETFROM:+0100
TZOFFSETTO:+0200
TZNAME:CEST
DTSTART:20240331T010000
END:DAYLIGHT
BEGIN:STANDARD
TZOFFSETFROM:+0200
TZOFFSETTO:+0100
TZNAME:CET
DTSTART:20241027T010000
END:STANDARD
BEGIN:DAYLIGHT
TZOFFSETFROM:+0100
TZOFFSETTO:+0200
TZNAME:CEST
DTSTART:20250330T010000
END:DAYLIGHT
BEGIN:STANDARD
TZOFFSETFROM:+0200
TZOFFSETTO:+0100
TZNAME:CET
DTSTART:20251026T010000
END:STANDARD
BEGIN:DAYLIGHT
TZOFFSETFROM:+0100
TZOFFSETTO:+0200
TZNAME:CEST
DTSTART:20260329T010000
END:DAYLIGHT
BEGIN:STANDARD
TZOFFSETFROM:+0200
TZOFFSETTO:+0100
TZNAME:CET
DTSTART:20261025T010000
END:STANDARD
END:VTIMEZONE
BEGIN:VEVENT
DTSTART;TZID=Europe/Vienna:20250523T133000
DTEND;TZID=Europe/Vienna:20250523T173000
DTSTAMP:20260426T061522
CREATED:20250507T122603Z
LAST-MODIFIED:20250507T123354Z
UID:466142-1748007000-1748021400@www.bio-austria.at
SUMMARY:Praxiswerkstatt: Nistplatz für Wildbienen – praktische Anlage und Tipps
DESCRIPTION:Wildbienen sind unersetzlich! Besonders während längerer Schlechtwetterperioden zur Obstblüte übernehmen sie einen großen Teil der Bestäubungsleitung. Damit sich die sympathischen Kleinflieger wohlfühlen\, ist der Lebensraum entscheidend: Viele Wildbienen nisten im Boden! Bei dieser Praxiswerksatt lernen wir die Lebensweisen kennen und schaffen gemeinsam einen optimalen Nistplatz mit regionalen Materialien.  \n\n\n\nZielgruppe:\n\n\n\nAcker- und Grünlandbetriebe \n\n\n\nAnrechnung:\n\n\n\n1 Stunde ÖPUL 23 – UBB oder Bio-Biodiversität \n\n\n\nVeranstalter: \n\n\n\nÖKL – Österreichisches Kuratorium für Landtechnik und Landentwicklung \n\n\n\n©ÖKL\n\n\n\nWeitere Informationen und Anmeldung:\n\n\n\n\nHier geht es zur Anmeldung
URL:https://www.bio-austria.at/v/bauern/praxiswerkstatt-nistplatz-fuer-wildbienen-praktische-anlage-und-tipps/
LOCATION:Biohof Hayden\, Untertiefenbach 1\, Böheimkirchen\, 3071
ATTACH;FMTTYPE=image/png:https://www.bio-austria.at/app/uploads/bildschirmfoto-2019-10-01-um-16-55-06.png
END:VEVENT
END:VCALENDAR