BEGIN:VCALENDAR
VERSION:2.0
PRODID:-//BIO AUSTRIA - ECPv6.15.20//NONSGML v1.0//EN
CALSCALE:GREGORIAN
METHOD:PUBLISH
X-WR-CALNAME:BIO AUSTRIA
X-ORIGINAL-URL:https://www.bio-austria.at
X-WR-CALDESC:Veranstaltungen für BIO AUSTRIA
REFRESH-INTERVAL;VALUE=DURATION:PT1H
X-Robots-Tag:noindex
X-PUBLISHED-TTL:PT1H
BEGIN:VTIMEZONE
TZID:Europe/Vienna
BEGIN:DAYLIGHT
TZOFFSETFROM:+0100
TZOFFSETTO:+0200
TZNAME:CEST
DTSTART:20240331T010000
END:DAYLIGHT
BEGIN:STANDARD
TZOFFSETFROM:+0200
TZOFFSETTO:+0100
TZNAME:CET
DTSTART:20241027T010000
END:STANDARD
BEGIN:DAYLIGHT
TZOFFSETFROM:+0100
TZOFFSETTO:+0200
TZNAME:CEST
DTSTART:20250330T010000
END:DAYLIGHT
BEGIN:STANDARD
TZOFFSETFROM:+0200
TZOFFSETTO:+0100
TZNAME:CET
DTSTART:20251026T010000
END:STANDARD
BEGIN:DAYLIGHT
TZOFFSETFROM:+0100
TZOFFSETTO:+0200
TZNAME:CEST
DTSTART:20260329T010000
END:DAYLIGHT
BEGIN:STANDARD
TZOFFSETFROM:+0200
TZOFFSETTO:+0100
TZNAME:CET
DTSTART:20261025T010000
END:STANDARD
END:VTIMEZONE
BEGIN:VEVENT
DTSTART;TZID=Europe/Vienna:20251114T090000
DTEND;TZID=Europe/Vienna:20251114T160000
DTSTAMP:20260424T225849
CREATED:20250717T132819Z
LAST-MODIFIED:20250718T222812Z
UID:471556-1763110800-1763136000@www.bio-austria.at
SUMMARY:Schaf- und Ziegenfleisch als Delikatesse
DESCRIPTION:Entdecken Sie die vielseitigen Möglichkeiten der Fleischverarbeitung von Schaf und Ziege! In diesem umfassenden Kurs lernen Sie alles\, was Sie für die fachgerechte Zerlegung und Weiterverarbeitung zu Faschiertem\, Würsten & Leberkäse benötigen.Begleitet wird der Kurs von einem umfangreichen Skript\, das neben technologischen Anweisungen auch detaillierte Herstellungsabläufe und köstliche Rezepte enthält. \n\n\n\nInhalt\n\n\n\n\nFleischzerlegung mit Zuschnitt der Teilstücke und Materialvorbehandlung.\n\n\n\nHerstellen von Sauce Bolognese und anderen Fertiggerichten aus faschiertem Fleisch\n\n\n\nHerstellung von Lamm/Ziegenbratwurst und Lamm/Ziegenleberkäse\n\n\n\n\nReferent\n\n\n\nHermann Jakob \n\n\n\n \n\n\n\nKursanrechnung\n\n\n\n6 BIO AUSTRIA StundenEine Weiterbildungsveranstaltung kann nur einmal pro Betrieb angerechnet werden. \n\n\n\n \n\n\n\nMitzubringen\n\n\n\nHygienebekleidung (wenn vorhanden)\, Schreibmaterial \n\n\n\n \n\n\n\nKursbeitrag\n\n\n\n142\,– Euro ungefördert\, 94\,– Euro gefördert \n\n\n\nBildungsförderung der Ländlichen Entwicklung im Rahmen des GAP-Strategieplan 2023-2027. \n\n\n\nAnmeldung\n\n\n\nLFI Salzburg\, Kursnummer 5-0013048+43 50 2595 3336nicole.walcher@lk-salzbur.at \n\n\n\n\nOnline – Anmeldung LFI Salzburg
URL:https://www.bio-austria.at/v/bauern/schaf-und-ziegenfleisch-als-delikatesse-2/
LOCATION:LFS Bruck\, Bahnhofstraße 5\, Bruck\, 5671\, Österreich
ATTACH;FMTTYPE=image/jpeg:https://www.bio-austria.at/app/uploads/2025/07/altschafkurs-teil-2clfi-salzburg-3.jpg
END:VEVENT
END:VCALENDAR