BEGIN:VCALENDAR
VERSION:2.0
PRODID:-//BIO AUSTRIA - ECPv6.15.20//NONSGML v1.0//EN
CALSCALE:GREGORIAN
METHOD:PUBLISH
X-WR-CALNAME:BIO AUSTRIA
X-ORIGINAL-URL:https://www.bio-austria.at
X-WR-CALDESC:Veranstaltungen für BIO AUSTRIA
REFRESH-INTERVAL;VALUE=DURATION:PT1H
X-Robots-Tag:noindex
X-PUBLISHED-TTL:PT1H
BEGIN:VTIMEZONE
TZID:Europe/Vienna
BEGIN:DAYLIGHT
TZOFFSETFROM:+0100
TZOFFSETTO:+0200
TZNAME:CEST
DTSTART:20240331T010000
END:DAYLIGHT
BEGIN:STANDARD
TZOFFSETFROM:+0200
TZOFFSETTO:+0100
TZNAME:CET
DTSTART:20241027T010000
END:STANDARD
BEGIN:DAYLIGHT
TZOFFSETFROM:+0100
TZOFFSETTO:+0200
TZNAME:CEST
DTSTART:20250330T010000
END:DAYLIGHT
BEGIN:STANDARD
TZOFFSETFROM:+0200
TZOFFSETTO:+0100
TZNAME:CET
DTSTART:20251026T010000
END:STANDARD
BEGIN:DAYLIGHT
TZOFFSETFROM:+0100
TZOFFSETTO:+0200
TZNAME:CEST
DTSTART:20260329T010000
END:DAYLIGHT
BEGIN:STANDARD
TZOFFSETFROM:+0200
TZOFFSETTO:+0100
TZNAME:CET
DTSTART:20261025T010000
END:STANDARD
END:VTIMEZONE
BEGIN:VEVENT
DTSTART;TZID=Europe/Vienna:20251122T090000
DTEND;TZID=Europe/Vienna:20251122T150000
DTSTAMP:20260423T003421
CREATED:20251008T072240Z
LAST-MODIFIED:20251008T072242Z
UID:476915-1763802000-1763823600@www.bio-austria.at
SUMMARY:Tiergesundheit bei Rindern\, Schafen und Ziegen/Mölltal
DESCRIPTION:Fütterung und Verdauung \n\n\n\nVerdauung verstehen\, typische Krankheiten wie Pansenazidose\, Fremdkörper\, Blähungen. Stoffwechsel- und Leberkrankheiten wie Ketose bei der Kuh und Trächtigkeitstoxikose bei Schafen und Ziegen. Zusammenhang zwischen Fütterung und Fruchtbarkeit bei der Kuh. Mineralstoffversorgung für Rinder\, Schafe und Ziegen. Es werden besprochen: Krankheitsentstehung\, Behandlung mit Schulmedizin\, Unterstützung mit Hausmitteln und Homöopathie. Wann muss ein Tierarzt beigezogen werden? Rechtliche Aspekte werden erklärt. Fragenbeantwortung und Erfahrungsaustausch. \n\n\n\nÖPUL23-BIO 3 Stunden und TGD-Anerkennung: 2\,5 Stunden  \n\n\n\n \n\n\n\nReferentin: Dr. Elisabeth Stöger (Tierärztin) \n\n\n\nAnmeldung bei BIO AUSTRIA Kärnten unter 0463/5850-5400 oder online beim LFI Kärnten bis zum 17.November \n\n\n\n\nOnline Anmeldung
URL:https://www.bio-austria.at/v/bauern/tiergesundheit-bei-rindern-schafen-und-ziegen-moelltal/
LOCATION:GH Reichhold\, Stall 17\, Stall im Mölltal\, 9832
ATTACH;FMTTYPE=image/jpeg:https://www.bio-austria.at/app/uploads/2024/11/milch-aus-gras-futterungc-manuela-wilpernig.jpg
END:VEVENT
END:VCALENDAR