BEGIN:VCALENDAR
VERSION:2.0
PRODID:-//BIO AUSTRIA - ECPv6.15.20//NONSGML v1.0//EN
CALSCALE:GREGORIAN
METHOD:PUBLISH
X-WR-CALNAME:BIO AUSTRIA
X-ORIGINAL-URL:https://www.bio-austria.at
X-WR-CALDESC:Veranstaltungen für BIO AUSTRIA
REFRESH-INTERVAL;VALUE=DURATION:PT1H
X-Robots-Tag:noindex
X-PUBLISHED-TTL:PT1H
BEGIN:VTIMEZONE
TZID:Europe/Vienna
BEGIN:DAYLIGHT
TZOFFSETFROM:+0100
TZOFFSETTO:+0200
TZNAME:CEST
DTSTART:20250330T010000
END:DAYLIGHT
BEGIN:STANDARD
TZOFFSETFROM:+0200
TZOFFSETTO:+0100
TZNAME:CET
DTSTART:20251026T010000
END:STANDARD
BEGIN:DAYLIGHT
TZOFFSETFROM:+0100
TZOFFSETTO:+0200
TZNAME:CEST
DTSTART:20260329T010000
END:DAYLIGHT
BEGIN:STANDARD
TZOFFSETFROM:+0200
TZOFFSETTO:+0100
TZNAME:CET
DTSTART:20261025T010000
END:STANDARD
BEGIN:DAYLIGHT
TZOFFSETFROM:+0100
TZOFFSETTO:+0200
TZNAME:CEST
DTSTART:20270328T010000
END:DAYLIGHT
BEGIN:STANDARD
TZOFFSETFROM:+0200
TZOFFSETTO:+0100
TZNAME:CET
DTSTART:20271031T010000
END:STANDARD
END:VTIMEZONE
BEGIN:VEVENT
DTSTART;TZID=Europe/Vienna:20260113T190000
DTEND;TZID=Europe/Vienna:20260113T210000
DTSTAMP:20260423T221145
CREATED:20250827T094819Z
LAST-MODIFIED:20251215T142429Z
UID:474554-1768330800-1768338000@www.bio-austria.at
SUMMARY:Treffpunkt BIO: Fit für die Bio-Kontrolle
DESCRIPTION:Monatlicher Online-Austausch für Bio-Betriebe\n\n\n\nMit „Treffpunkt BIO“ bieten wir eine monatliche Plattform für aktuelle Themen rund um die Bio-Landwirtschaft. \n\n\n\nInhalt\n\n\n\nUnser nächster Treffpunkt BIO findet am 13. Jänner 2026 zum Thema „Fit für die Bio-Kontrolle“ statt. Gemeinsam mit DI Günther Ofner\, ABG\, wird es einen Überblick über Ablauf\, Anforderungen und typische Schwerpunkte der Bio-Kontrolle geben. \n\n\n\nEs werden wichtige Kontrollkriterien\, häufige Fehlerquellen sowie praktische Hinweise zur optimalen Vorbereitung erläutert. Außerdem wird es viel Raum für Diskussion und offene Fragen rund um das Thema Bio-Kontrolle geben. \n\n\n\nVeranstalter\n\n\n\nDiese Veranstaltung wird von Bio Ernte Steiermark durchgeführt. Es gelten die Allgemeinen Geschäftsbedingungen „Geschäftsfeld Bildung und Beratung Bio Ernte Steiermark“. \n\n\n\nAnmeldung\n\n\n\n\nZur Anmeldung
URL:https://www.bio-austria.at/v/bauern/treffpunkt-bio-jaenner-2026/
LOCATION:online\, ZOOM\, den Zugang dazu erhalten Sie nach der Anmeldung
ATTACH;FMTTYPE=image/jpeg:https://www.bio-austria.at/app/uploads/2025/08/treffpunkt-bio-bio-kontrolle.jpg
END:VEVENT
END:VCALENDAR