BEGIN:VCALENDAR
VERSION:2.0
PRODID:-//BIO AUSTRIA - ECPv6.15.20//NONSGML v1.0//EN
CALSCALE:GREGORIAN
METHOD:PUBLISH
X-WR-CALNAME:BIO AUSTRIA
X-ORIGINAL-URL:https://www.bio-austria.at
X-WR-CALDESC:Veranstaltungen für BIO AUSTRIA
REFRESH-INTERVAL;VALUE=DURATION:PT1H
X-Robots-Tag:noindex
X-PUBLISHED-TTL:PT1H
BEGIN:VTIMEZONE
TZID:Europe/Vienna
BEGIN:DAYLIGHT
TZOFFSETFROM:+0100
TZOFFSETTO:+0200
TZNAME:CEST
DTSTART:20240331T010000
END:DAYLIGHT
BEGIN:STANDARD
TZOFFSETFROM:+0200
TZOFFSETTO:+0100
TZNAME:CET
DTSTART:20241027T010000
END:STANDARD
BEGIN:DAYLIGHT
TZOFFSETFROM:+0100
TZOFFSETTO:+0200
TZNAME:CEST
DTSTART:20250330T010000
END:DAYLIGHT
BEGIN:STANDARD
TZOFFSETFROM:+0200
TZOFFSETTO:+0100
TZNAME:CET
DTSTART:20251026T010000
END:STANDARD
BEGIN:DAYLIGHT
TZOFFSETFROM:+0100
TZOFFSETTO:+0200
TZNAME:CEST
DTSTART:20260329T010000
END:DAYLIGHT
BEGIN:STANDARD
TZOFFSETFROM:+0200
TZOFFSETTO:+0100
TZNAME:CET
DTSTART:20261025T010000
END:STANDARD
END:VTIMEZONE
BEGIN:VEVENT
DTSTART;TZID=Europe/Vienna:20251104T190000
DTEND;TZID=Europe/Vienna:20251104T210000
DTSTAMP:20260423T231305
CREATED:20250827T094443Z
LAST-MODIFIED:20251104T091636Z
UID:474548-1762282800-1762290000@www.bio-austria.at
SUMMARY:Treffpunkt BIO - Online
DESCRIPTION:Monatlicher Online-Austausch für Bio-Betriebe\n\n\n\nMit „Treffpunkt BIO“ bieten wir eine monatliche Plattform für aktuelle Themen rund um die Bio-Landwirtschaft – von Markttrends über Richtlinien bis hin zu gesellschaftspolitischen Fragen wie „Neue Gentechnik“. \n\n\n\nThema: Blauzungenkrankheit\n\n\n\nDie Blauzungenkrankheit breitet sich derzeit in der Steiermark aus. Wir diskutieren mit Dr.in Elisabeth Stöger\, wie Bio-Betriebe ihre Tierbestände schützen\, infizierte Tiere pflegen und behandeln können – sowie\, worauf wir im Frühjahr vorbereitet sein sollten. \n\n\n\n\nAktuelle Lage in Österreich und der Steiermark\n\n\n\nÜbertragungswege und Risiken für Wiederkäuer\n\n\n\nVorbeugungsmaßnahmen\n\n\n\nBehandlung im Rahmen der Schulmedizin und Homöopathische Unterstützung\n\n\n\nBesonderheiten für Bio-Betriebe\n\n\n\nPraktische Erfahrungen aus der Tierhaltung\n\n\n\n\nAnerkennung\n\n\n\n1 Stunde TGD \n\n\n\nVeranstalter\n\n\n\nDiese Veranstaltung wird von Bio Ernte Steiermark durchgeführt. Es gelten die Allgemeinen Geschäftsbedingungen „Geschäftsfeld Bildung und Beratung Bio Ernte Steiermark“. \n\n\n\nAnmeldung\n\n\n\n\nZur Anmeldung
URL:https://www.bio-austria.at/v/bauern/treffpunkt-bio-november-2025/
LOCATION:online\, ZOOM\, den Zugang dazu erhalten Sie nach der Anmeldung
ATTACH;FMTTYPE=image/jpeg:https://www.bio-austria.at/app/uploads/2025/08/treffpunkt-bio-c-bio-ernte-steiermark.jpg
END:VEVENT
END:VCALENDAR