BEGIN:VCALENDAR
VERSION:2.0
PRODID:-//BIO AUSTRIA - ECPv6.15.20//NONSGML v1.0//EN
CALSCALE:GREGORIAN
METHOD:PUBLISH
X-WR-CALNAME:BIO AUSTRIA
X-ORIGINAL-URL:https://www.bio-austria.at
X-WR-CALDESC:Veranstaltungen für BIO AUSTRIA
REFRESH-INTERVAL;VALUE=DURATION:PT1H
X-Robots-Tag:noindex
X-PUBLISHED-TTL:PT1H
BEGIN:VTIMEZONE
TZID:Europe/Vienna
BEGIN:DAYLIGHT
TZOFFSETFROM:+0100
TZOFFSETTO:+0200
TZNAME:CEST
DTSTART:20240331T010000
END:DAYLIGHT
BEGIN:STANDARD
TZOFFSETFROM:+0200
TZOFFSETTO:+0100
TZNAME:CET
DTSTART:20241027T010000
END:STANDARD
BEGIN:DAYLIGHT
TZOFFSETFROM:+0100
TZOFFSETTO:+0200
TZNAME:CEST
DTSTART:20250330T010000
END:DAYLIGHT
BEGIN:STANDARD
TZOFFSETFROM:+0200
TZOFFSETTO:+0100
TZNAME:CET
DTSTART:20251026T010000
END:STANDARD
BEGIN:DAYLIGHT
TZOFFSETFROM:+0100
TZOFFSETTO:+0200
TZNAME:CEST
DTSTART:20260329T010000
END:DAYLIGHT
BEGIN:STANDARD
TZOFFSETFROM:+0200
TZOFFSETTO:+0100
TZNAME:CET
DTSTART:20261025T010000
END:STANDARD
END:VTIMEZONE
BEGIN:VEVENT
DTSTART;TZID=Europe/Vienna:20251111T093000
DTEND;TZID=Europe/Vienna:20251111T130000
DTSTAMP:20260422T190457
CREATED:20251014T135149Z
LAST-MODIFIED:20251014T135633Z
UID:477303-1762853400-1762866000@www.bio-austria.at
SUMMARY:Vernetzungstreffen Urlaub am Biobauernhof. Schwerpunkt: Bio-Frühstück
DESCRIPTION:Programm:\n\n\n\nAb 7:30 Uhr besteht die Möglichkeit das äußerst umfangreiche Bio-Frühstück zu genießen! Mostviertler Bio Frühstück (Buffet) – € 28\,– (Selbstzahler)  \n\n\n\n \n\n\n\n9:15 Uhr: Ankommen und Begrüßung im Frühstücksraum  \n\n\n\n9:30 Uhr: Hausführung RelaxResort Kothmühle – BIO AUSTRIA Partner Elisabeth Scheiblauer\, erzählt uns von ihren Erfahrungen mit dem Angebot Bio-Frühstück und führt uns im Anschluss durch das Haus  \n\n\n\n \n\n\n\n10:00 Uhr Neue Richtlinien Bio-Frühstück  \n\n\n\nJosef Stummer\, BIO AUSTRIA Oberösterreich Julia Kurz\, BIO AUSTRIA Niederösterreich und WienWorkshop – Mehrwert für den eigenen Betrieb Frühstücksangebot – Bio-Anteil\, Berechnung Frühstücksblatt gestalten\, Aufsteller und Co.\,Vorlagen für Canva für den eigenen Betrieb\, Infos zur Getreidequiz-Station   \n\n\n\nKaffeepause mit Kuchen  \n\n\n\nOffene Diskussionsrunde & Erfahrungsaustausch  \n\n\n\nWir laden herzlich ein\, eigene Erfahrungen\, Anliegen und Fragen aus der Praxis mit- und einzubringen. Diskutiert mit den zuständigen Vertreter:innen von BIO AUSTRIA\, Urlaub am Bauernhof und Eva Stern vom Gästering Mostviertel in offener Runde. \n\n\n\n \n\n\n\nWir freuen uns auf einen regen Austausch\, bei dem man nur profitieren kann! \n\n\n\n \n\n\n\nEs gibt wieder die Möglichkeit Werbemittel für eure Infoecke und eure Gäste mit nach Hause zu nehmen: Bio-Guide\, Biomagazin „bio.frei.zeit“ und „Bio-Life“\, Rätselhefte für Kinder\,  Produktkarten\, Postkarten\, Schwammtücher\, Falttaschen\, …Käuflich erwerblich (Preisliste & Fotos senden wir gerne vorab zu): T-Shirts\, Kinderbuch „Fritzis Abenteuer“\, Kochschürzen\, Bio-Portionszucker\, Schautafeln\, Hinweisschilder\, Getreidequiz\, Müslischüsseln\, …  Bitte vorab um Info bei speziellen Wünschen & Mengen damit wir diese auch mithaben! \n\n\n\n \n\n\n\nAnmeldung:\n\n\n\nbis 30.10.2025 an Julia Kurz: julia.kurz@bio-austria.at oder niederoesterreich@bio-austria.at \n\n\n\nBitte mit der Angabe ob ihr das Bio-Frühstücksbuffet (€ 28\,-) in Anspruch nehmen wollt und ob Interesse an Fahrgemeinschaften besteht. \n\n\n\n\nEinladung zum Download
URL:https://www.bio-austria.at/v/bauern/vernetzungstreffen-urlaub-am-biobauernhof-schwerpunkt-bio-fruehstueck/
LOCATION:RelaxResort Kothmühle\, Kothmühle 1\, Neuhofen an der Ybbs\, 3364
ATTACH;FMTTYPE=image/jpeg:https://www.bio-austria.at/app/uploads/2025/10/titel-fruhstuck-vernetzungstreffen-online.jpg
END:VEVENT
END:VCALENDAR