BEGIN:VCALENDAR
VERSION:2.0
PRODID:-//BIO AUSTRIA - ECPv6.15.20//NONSGML v1.0//EN
CALSCALE:GREGORIAN
METHOD:PUBLISH
X-WR-CALNAME:BIO AUSTRIA
X-ORIGINAL-URL:https://www.bio-austria.at
X-WR-CALDESC:Veranstaltungen für BIO AUSTRIA
REFRESH-INTERVAL;VALUE=DURATION:PT1H
X-Robots-Tag:noindex
X-PUBLISHED-TTL:PT1H
BEGIN:VTIMEZONE
TZID:Europe/Vienna
BEGIN:DAYLIGHT
TZOFFSETFROM:+0100
TZOFFSETTO:+0200
TZNAME:CEST
DTSTART:20250330T010000
END:DAYLIGHT
BEGIN:STANDARD
TZOFFSETFROM:+0200
TZOFFSETTO:+0100
TZNAME:CET
DTSTART:20251026T010000
END:STANDARD
BEGIN:DAYLIGHT
TZOFFSETFROM:+0100
TZOFFSETTO:+0200
TZNAME:CEST
DTSTART:20260329T010000
END:DAYLIGHT
BEGIN:STANDARD
TZOFFSETFROM:+0200
TZOFFSETTO:+0100
TZNAME:CET
DTSTART:20261025T010000
END:STANDARD
BEGIN:DAYLIGHT
TZOFFSETFROM:+0100
TZOFFSETTO:+0200
TZNAME:CEST
DTSTART:20270328T010000
END:DAYLIGHT
BEGIN:STANDARD
TZOFFSETFROM:+0200
TZOFFSETTO:+0100
TZNAME:CET
DTSTART:20271031T010000
END:STANDARD
END:VTIMEZONE
BEGIN:VEVENT
DTSTART;TZID=Europe/Vienna:20260304T090000
DTEND;TZID=Europe/Vienna:20260305T163000
DTSTAMP:20260423T062810
CREATED:20251001T064801Z
LAST-MODIFIED:20251001T064803Z
UID:476445-1772614800-1772728200@www.bio-austria.at
SUMMARY:Wassereffizienter Ackerbau
DESCRIPTION:Durch die Klimaerwärmung ist mit häufiger vorkommenden Wetterextremen zu rechnen. Dies stellt die Landwirtschaft vor große Herausforderungen\, weil Wasser einerseits zur knappen Ressource wird und andererseits intensive Niederschlagsereignisse mit starker Bodenerosion zu erwarten sind. Dies erfordert umso mehr\, Böden in ihren bestmöglichen Zustand zu bringen. An zwei Kurstagen werden Maßnahmen besprochen\, welche die Wasseraufnahme und Wasserspeicherfähigkeit von Böden erhöhen sowie unnötige Wasserverluste vermeiden helfen. Die Zusammenhänge von Boden-Pflanze-Wasserhaushalt und Klima werden praxisorientiert mit Schauobjekten\, best practice Beispielen und Versuchen am Gelände nähergebracht. \n\n\n\nKurszeiten:\n\n\n\n\nMittwoch\, 4. März von 9:00 bis 17:00 Uhr\n\n\n\nDonnerstag\, 5. März von 9:00 bis 16:30 Uhr\n\n\n\n\nReferenten:\n\n\n\n\nDr. Wilfried Hartl\n\n\n\nIng. Rudolf Votzi\n\n\n\n\nKosten:\n\n\n\n\nTeilnahmebeitrag gefördert: 150€\n\n\n\nTeilnahmebeitrag ungefördert: 450€\n\n\n\n\nAnrechnung:\n\n\n\n10 Stunden für ÖPUL23-GWA (Grundwasser Acker) \n\n\n\nWeitere Informationen und Anmeldung:\n\n\n\n\nHier geht es zur Anmeldung
URL:https://www.bio-austria.at/v/bauern/wassereffizienter-ackerbau-2/
LOCATION:Bio Forschung Austria\, Eßlinger Hauptstraße 132-134\, Wien\, 1220
ATTACH;FMTTYPE=image/jpeg:https://www.bio-austria.at/app/uploads/GrundlagenBiol.Ackerbau2016Stmk_web.jpg
END:VEVENT
END:VCALENDAR