BEGIN:VCALENDAR
VERSION:2.0
PRODID:-//BIO AUSTRIA - ECPv6.15.20//NONSGML v1.0//EN
CALSCALE:GREGORIAN
METHOD:PUBLISH
X-WR-CALNAME:BIO AUSTRIA
X-ORIGINAL-URL:https://www.bio-austria.at
X-WR-CALDESC:Veranstaltungen für BIO AUSTRIA
REFRESH-INTERVAL;VALUE=DURATION:PT1H
X-Robots-Tag:noindex
X-PUBLISHED-TTL:PT1H
BEGIN:VTIMEZONE
TZID:Europe/Vienna
BEGIN:DAYLIGHT
TZOFFSETFROM:+0100
TZOFFSETTO:+0200
TZNAME:CEST
DTSTART:20250330T010000
END:DAYLIGHT
BEGIN:STANDARD
TZOFFSETFROM:+0200
TZOFFSETTO:+0100
TZNAME:CET
DTSTART:20251026T010000
END:STANDARD
BEGIN:DAYLIGHT
TZOFFSETFROM:+0100
TZOFFSETTO:+0200
TZNAME:CEST
DTSTART:20260329T010000
END:DAYLIGHT
BEGIN:STANDARD
TZOFFSETFROM:+0200
TZOFFSETTO:+0100
TZNAME:CET
DTSTART:20261025T010000
END:STANDARD
BEGIN:DAYLIGHT
TZOFFSETFROM:+0100
TZOFFSETTO:+0200
TZNAME:CEST
DTSTART:20270328T010000
END:DAYLIGHT
BEGIN:STANDARD
TZOFFSETFROM:+0200
TZOFFSETTO:+0100
TZNAME:CET
DTSTART:20271031T010000
END:STANDARD
END:VTIMEZONE
BEGIN:VEVENT
DTSTART;TZID=Europe/Vienna:20260316T193000
DTEND;TZID=Europe/Vienna:20260316T210000
DTSTAMP:20260421T103525
CREATED:20260202T104801Z
LAST-MODIFIED:20260202T113856Z
UID:544691-1773689400-1773694800@www.bio-austria.at
SUMMARY:Webinar: Bio verstehen. Bio erleben. Bio weitergeben.
DESCRIPTION:Bio-Landwirtschaft Gästen erfolgreich vermitteln.\n\n\n\n\n\n\n\n\n\nProgramm\n\n\n\n\nKamishibai-ErzähltheaterManuela Hager\, BIO AUSTRIA OÖ stellt vor\, wie mit dem Kamishibai Bio-Landwirtschaft leicht verständlich und anschaulich vermittelt werden kann. Auf spielerische Weise können Gäste jeden Alters spielerisch in die Welt der Biolandwirtschaft eintauchen.\n\n\n\nVielfalt im Kleinen – BIO ist bei uns LebenseinstellungMaria Radziwon\, BIO AUSTRIA Bäuerin im Mölltal erklärt\, wie sie Bio-Landwirtschaft den Gästen in der Praxis näherbringt. Am Bergbauernhof wird Wert auf Vielfalt im Kleinen gelegt. Besonderheiten am Hof sind unter anderem Permakultur\, Bio-Produkte Ab-Hof\, Workshops (auch für Erwachsene) und das Angebot von „Schule am Bauernhof“.\n\n\n\nGenuss am Ursprung – erfolgreich mit dem GOLD-FrühstückMichaela Pernkopf\, BIO AUSTRIA Bäuerin in Hinterstoder ist es ein besonderes Anliegen Wissen über nachhaltige Landwirtschaft\, tiergerechte Haltung und den respektvollen Umgang mit der Natur den Gästen zu vermitteln. Sie erzählt aus der Praxis wie Bio-Landwirtschaft lebendig und genussvoll erlebbar wird und aus nachhaltiger Landwirtschaft echte Genussmomente entstehen.\n\n\n\n\nEine Veranstaltung im Rahmen der Kooperation Urlaub am Bauernhof x BIO AUSTRIA \n\n\n\n \n\n\n\nAnmeldung\n\n\n\nBitte unbedingt vorab unter dem Link anmelden:urlaubambauernhof.aidaform.com/bio-verstehen-bio-erleben \n\n\n\n \n\n\n\nNach der Anmeldung erhältst du ein Mail mit dem Zugangslink zur Online-Veranstaltung. Bitte speichere den Zugangslink. Am Tag der Online-Veranstaltung bitte auf den Link klicken\, um teilzunehmen.
URL:https://www.bio-austria.at/v/bauern/webinar-bio-verstehen-bio-erleben-bio-weitergeben/
LOCATION:Webinar
ATTACH;FMTTYPE=image/jpeg:https://www.bio-austria.at/app/uploads/2021/02/urlaub-cmanuelawilpernig-68-id5397.jpg
END:VEVENT
END:VCALENDAR