BEGIN:VCALENDAR
VERSION:2.0
PRODID:-//BIO AUSTRIA - ECPv6.15.20//NONSGML v1.0//EN
CALSCALE:GREGORIAN
METHOD:PUBLISH
X-WR-CALNAME:BIO AUSTRIA
X-ORIGINAL-URL:https://www.bio-austria.at
X-WR-CALDESC:Veranstaltungen für BIO AUSTRIA
REFRESH-INTERVAL;VALUE=DURATION:PT1H
X-Robots-Tag:noindex
X-PUBLISHED-TTL:PT1H
BEGIN:VTIMEZONE
TZID:Europe/Vienna
BEGIN:DAYLIGHT
TZOFFSETFROM:+0100
TZOFFSETTO:+0200
TZNAME:CEST
DTSTART:20250330T010000
END:DAYLIGHT
BEGIN:STANDARD
TZOFFSETFROM:+0200
TZOFFSETTO:+0100
TZNAME:CET
DTSTART:20251026T010000
END:STANDARD
BEGIN:DAYLIGHT
TZOFFSETFROM:+0100
TZOFFSETTO:+0200
TZNAME:CEST
DTSTART:20260329T010000
END:DAYLIGHT
BEGIN:STANDARD
TZOFFSETFROM:+0200
TZOFFSETTO:+0100
TZNAME:CET
DTSTART:20261025T010000
END:STANDARD
BEGIN:DAYLIGHT
TZOFFSETFROM:+0100
TZOFFSETTO:+0200
TZNAME:CEST
DTSTART:20270328T010000
END:DAYLIGHT
BEGIN:STANDARD
TZOFFSETFROM:+0200
TZOFFSETTO:+0100
TZNAME:CET
DTSTART:20271031T010000
END:STANDARD
END:VTIMEZONE
BEGIN:VEVENT
DTSTART;TZID=Europe/Vienna:20260120T183000
DTEND;TZID=Europe/Vienna:20260122T211500
DTSTAMP:20260423T084420
CREATED:20250924T082812Z
LAST-MODIFIED:20250924T084927Z
UID:476171-1768933800-1769116500@www.bio-austria.at
SUMMARY:Webinar: Einführung in die Biologische Bienenhaltung
DESCRIPTION:In unserem Kurs zum Thema biologische Bienenhaltung bekommen Sie das Rüstzeug für einen gelungenen Start als JungimkerIn in der Startphase oder bezüglich der Umstellung von konventionell zu bio. Die biologische Bienenhaltung hat das Tierwohl der Biene im Fokus. Die Grundlagen dazu\, Gesetze\, Verordnungen und Interpretationen sowie die praktischen Umsetzungen erfahren Sie im Kurs. Neben der EU Verordnung sehen wir uns auch die strengeren Richtlinien unserer Bioverbände BIO AUSTRIA und Demeter an. Keine Biobewegung ohne eine strenge Kontrolle: Biokontrolle und Dokumentation\, Verarbeitung\, die Wachssituation in Österreich\, Varroa und Viren sind u.a. ganz wesentliche Punkte in unserer Zusammenkunft. \n\n\n\nZielgruppe:\n\n\n\nInteressierte am Einstieg bzw. Umstieg in die Bio-Bienenhaltung \n\n\n\nReferent:\n\n\n\nDI Dietmar Niessner\, BIO AUSTRIA NÖ und Wien \n\n\n\nWebinarzeiten:\n\n\n\n\nDienstag\, 20. Jänner 2026 von 18:30 bis 21:15 Uhr\n\n\n\nMittwoch\, 21. Jänner 2026 von 18:30 bis 21:15 Uhr\n\n\n\nDonnerstag\, 22. Jänner 2026 von 18:30 bis 21:15 Uhr\n\n\n\n\nAnrechnung:\n\n\n\n2 Stunden TGD Weiterbildung \n\n\n\nKosten:\n\n\n\n\nTeilnahmebeitrag BIO AUSTRIA Mitglieder: 25€\n\n\n\nTeilnahmebeitrag gefördert: 30€\n\n\n\nTeilnahmebeitrag ungefördert: 80€\n\n\n\n\nAnmeldung:\n\n\n\n\nHier geht es zur Anmeldung
URL:https://www.bio-austria.at/v/bauern/webinar-einfuehrung-in-die-biologische-bienenhaltung-2/
LOCATION:Webinar
ATTACH;FMTTYPE=image/jpeg:https://www.bio-austria.at/app/uploads/2021/02/bienen-1.jpg
END:VEVENT
END:VCALENDAR