BEGIN:VCALENDAR
VERSION:2.0
PRODID:-//BIO AUSTRIA - ECPv6.15.20//NONSGML v1.0//EN
CALSCALE:GREGORIAN
METHOD:PUBLISH
X-WR-CALNAME:BIO AUSTRIA
X-ORIGINAL-URL:https://www.bio-austria.at
X-WR-CALDESC:Veranstaltungen für BIO AUSTRIA
REFRESH-INTERVAL;VALUE=DURATION:PT1H
X-Robots-Tag:noindex
X-PUBLISHED-TTL:PT1H
BEGIN:VTIMEZONE
TZID:Europe/Vienna
BEGIN:DAYLIGHT
TZOFFSETFROM:+0100
TZOFFSETTO:+0200
TZNAME:CEST
DTSTART:20240331T010000
END:DAYLIGHT
BEGIN:STANDARD
TZOFFSETFROM:+0200
TZOFFSETTO:+0100
TZNAME:CET
DTSTART:20241027T010000
END:STANDARD
BEGIN:DAYLIGHT
TZOFFSETFROM:+0100
TZOFFSETTO:+0200
TZNAME:CEST
DTSTART:20250330T010000
END:DAYLIGHT
BEGIN:STANDARD
TZOFFSETFROM:+0200
TZOFFSETTO:+0100
TZNAME:CET
DTSTART:20251026T010000
END:STANDARD
BEGIN:DAYLIGHT
TZOFFSETFROM:+0100
TZOFFSETTO:+0200
TZNAME:CEST
DTSTART:20260329T010000
END:DAYLIGHT
BEGIN:STANDARD
TZOFFSETFROM:+0200
TZOFFSETTO:+0100
TZNAME:CET
DTSTART:20261025T010000
END:STANDARD
END:VTIMEZONE
BEGIN:VEVENT
DTSTART;TZID=Europe/Vienna:20251128T090000
DTEND;TZID=Europe/Vienna:20251128T120000
DTSTAMP:20260423T030007
CREATED:20251002T113527Z
LAST-MODIFIED:20251002T184020Z
UID:476610-1764320400-1764331200@www.bio-austria.at
SUMMARY:Webinar: Heutrocknungsanlagen - Möglichkeiten und Grenzen
DESCRIPTION:Bestes Grundfutter ist die Voraussetzung für eine gesunde Milchviehherde\, die Wirtschaftlichkeit der Milchproduktion und hochwertige Milchprodukte. Um die Heuqualität zu verbessern und gleichzeitig das Wetterrisiko bei der Heuernte zu minimieren\, bestehen verschiedene Möglichkeiten der Heutrocknung. Das Webinar vermittelt die Vor- und Nachteile der verschiedenen Heutrocknungstechniken\, Kennzahlen zur Wirtschaftlichkeit und die richtige Rationsgestaltung mit Belüftungsheu. \n\n\n\nZielgruppe:\n\n\n\nBetriebe mit Interesse an Heutrocknungsanlagen \n\n\n\nReferenten:\n\n\n\n\nDr. Marco Horn\n\n\n\nDI Gerald Stögmüller\n\n\n\nIng. Mag. Matthias Kittl\n\n\n\n\nAnrechnung:\n\n\n\n\n2 Stunden für ÖPUL23-BIO\n\n\n\n1 Stunde für QPLUS-LKV Rinder\n\n\n\n1 Stunde für TGD\n\n\n\n\nKosten:\n\n\n\n\nTeilnahmebeitrag gefördert: 25€\n\n\n\nTeilnahmebeitrag ungefördert: 75€\n\n\n\n\nWeitere Informationen und Anmeldung:\n\n\n\n\nHier geht es zur Anmeldung
URL:https://www.bio-austria.at/v/bauern/webinar-heutrocknungsanlagen-moeglichkeiten-und-grenzen/
LOCATION:Webinar
ATTACH;FMTTYPE=image/jpeg:https://www.bio-austria.at/app/uploads/2021/02/heuproduktionbadinger-edlerimg-3317.jpg
END:VEVENT
END:VCALENDAR