BEGIN:VCALENDAR
VERSION:2.0
PRODID:-//BIO AUSTRIA - ECPv6.15.20//NONSGML v1.0//EN
CALSCALE:GREGORIAN
METHOD:PUBLISH
X-WR-CALNAME:BIO AUSTRIA
X-ORIGINAL-URL:https://www.bio-austria.at
X-WR-CALDESC:Veranstaltungen für BIO AUSTRIA
REFRESH-INTERVAL;VALUE=DURATION:PT1H
X-Robots-Tag:noindex
X-PUBLISHED-TTL:PT1H
BEGIN:VTIMEZONE
TZID:Europe/Vienna
BEGIN:DAYLIGHT
TZOFFSETFROM:+0100
TZOFFSETTO:+0200
TZNAME:CEST
DTSTART:20240331T010000
END:DAYLIGHT
BEGIN:STANDARD
TZOFFSETFROM:+0200
TZOFFSETTO:+0100
TZNAME:CET
DTSTART:20241027T010000
END:STANDARD
BEGIN:DAYLIGHT
TZOFFSETFROM:+0100
TZOFFSETTO:+0200
TZNAME:CEST
DTSTART:20250330T010000
END:DAYLIGHT
BEGIN:STANDARD
TZOFFSETFROM:+0200
TZOFFSETTO:+0100
TZNAME:CET
DTSTART:20251026T010000
END:STANDARD
BEGIN:DAYLIGHT
TZOFFSETFROM:+0100
TZOFFSETTO:+0200
TZNAME:CEST
DTSTART:20260329T010000
END:DAYLIGHT
BEGIN:STANDARD
TZOFFSETFROM:+0200
TZOFFSETTO:+0100
TZNAME:CET
DTSTART:20261025T010000
END:STANDARD
END:VTIMEZONE
BEGIN:VEVENT
DTSTART;TZID=Europe/Vienna:20251210T130000
DTEND;TZID=Europe/Vienna:20251210T160000
DTSTAMP:20260423T094646
CREATED:20250924T070050Z
LAST-MODIFIED:20250924T070213Z
UID:476163-1765371600-1765382400@www.bio-austria.at
SUMMARY:Webinar: Humusbilanzierung für den eigenen Betrieb
DESCRIPTION:Das Webinar widmet sich der Bedeutung des Humus für Bodenfruchtbarkeit und Klima- sowie Grundwasserschutz. Dabei wird die neue Humustheorie vorgestellt und der Frage nach stabilen Humusverbindungen im Boden nachgegangen. Die Humusbilanzierung wird als Recheninstrument vorgestellt\, dabei werden Vor- und Nachteile verschiedener humusaufbauender Maßnahmen wie Fruchtfolge\, Zufuhr von Ernterückständen\, Gründüngung und Kompost erläutert. Die Teilnehmer:innen erfahren\, wie sie aus eBOD (elektronische Bodenkarte) die Bodendaten für die Humusbilanzierung entnehmen und welche Informationen sie noch für ihren Betrieb nutzen können. \n\n\n\nZielgruppe:\n\n\n\nLandwirt:innen\, die sich für Humusaufbau\, Boden- und Grundwasserschutz interessieren \n\n\n\nReferent:innen:\n\n\n\n\nDI Elisabeth Neuner\n\n\n\nChristoph Reithofer\n\n\n\n\nAnrechnung:\n\n\n\n3 Stunden für ÖPUL23-GWA (Grundwasser Acker) \n\n\n\nKosten:\n\n\n\n\nTeilnahmebeitrag gefördert: 40€\n\n\n\nTeilnahmebeitrag ungefördert: 90€\n\n\n\n\nWeitere Informationen und Anmeldung:\n\n\n\n\nHier geht es zur Anmeldung
URL:https://www.bio-austria.at/v/bauern/webinar-humusbilanzierung-fuer-den-eigenen-betrieb-4/
LOCATION:Webinar
ATTACH;FMTTYPE=image/jpeg:https://www.bio-austria.at/app/uploads/AufbauseminarHumusbilanzierungStmk2016_web.jpg
END:VEVENT
END:VCALENDAR