BEGIN:VCALENDAR
VERSION:2.0
PRODID:-//BIO AUSTRIA - ECPv6.15.20//NONSGML v1.0//EN
CALSCALE:GREGORIAN
METHOD:PUBLISH
X-WR-CALNAME:BIO AUSTRIA
X-ORIGINAL-URL:https://www.bio-austria.at
X-WR-CALDESC:Veranstaltungen für BIO AUSTRIA
REFRESH-INTERVAL;VALUE=DURATION:PT1H
X-Robots-Tag:noindex
X-PUBLISHED-TTL:PT1H
BEGIN:VTIMEZONE
TZID:Europe/Vienna
BEGIN:DAYLIGHT
TZOFFSETFROM:+0100
TZOFFSETTO:+0200
TZNAME:CEST
DTSTART:20250330T010000
END:DAYLIGHT
BEGIN:STANDARD
TZOFFSETFROM:+0200
TZOFFSETTO:+0100
TZNAME:CET
DTSTART:20251026T010000
END:STANDARD
BEGIN:DAYLIGHT
TZOFFSETFROM:+0100
TZOFFSETTO:+0200
TZNAME:CEST
DTSTART:20260329T010000
END:DAYLIGHT
BEGIN:STANDARD
TZOFFSETFROM:+0200
TZOFFSETTO:+0100
TZNAME:CET
DTSTART:20261025T010000
END:STANDARD
BEGIN:DAYLIGHT
TZOFFSETFROM:+0100
TZOFFSETTO:+0200
TZNAME:CEST
DTSTART:20270328T010000
END:DAYLIGHT
BEGIN:STANDARD
TZOFFSETFROM:+0200
TZOFFSETTO:+0100
TZNAME:CET
DTSTART:20271031T010000
END:STANDARD
END:VTIMEZONE
BEGIN:VEVENT
DTSTART;TZID=Europe/Vienna:20260113T190000
DTEND;TZID=Europe/Vienna:20260122T210000
DTSTAMP:20260422T112047
CREATED:20251029T085832Z
LAST-MODIFIED:20260113T103914Z
UID:478116-1768330800-1769115600@www.bio-austria.at
SUMMARY:Webinar: Mehrjähriges Gemüse II – Kulturen\, Pflanzgemeinschaften\, Kulinarik & vieles mehr
DESCRIPTION:Ausdauerndes Gemüse ist nahrhaft\, kulinarisch vielseitig verwendbar und bringt einen hohen ökologischen Mehrwert. Praxisorientierte Expert:innen mehrjähriger Gemüse\, der Staudengärtnerei und -verwendung sowie Köche teilen ihre Erfahrungen mit Ihnen. Themen des Webinars sind dabei u.a. vertiefende Pflanzenportraits\, mehrjährige Salate\, mehrjähriges Gemüse im Sommer und Herbst; Mythen und Fakten mehrjähriger Gemüse; Mischkulturen und Pflanzgemeinschaften; Planungs- und Gestaltungsprinzipien\, Etablierung und Pflege bei mehrjährigen Stauden-Pflanzungen; Kulinarik\, Gastronomie und Vermarktung.Dieses Webinar wird aufgezeichnet. Das Video sowie Kursunterlagen werden für Teilnehmende im Anschluss an die Veranstaltung digital bereitgestellt. \n\n\n\nZielgruppe\n\n\n\nDirektvermarkter:innen\, Gemüsebau-Betriebe\, interessierete Bäuerinnen und Bauern \n\n\n\nTermine:\n\n\n\n13.01.2026\, 19:00 bis 21:00 Uhr 15.01.2026\, 19:00 bis 21:00 Uhr 20.01.2026\, 19:00 bis 21:00 Uhr 21.01.2026\, 19:00 bis 21:00 Uhr 22.01.2026\, 19:00 bis 21:00 Uhr \n\n\n\nReferent:innen\n\n\n\n\nTristan Mitzel\n\n\n\nWolfgang Palme \n\n\n\nMara Müller\n\n\n\nDI Ingrid Gock\n\n\n\nJohann Reisinger\n\n\n\nMasaki Tega\n\n\n\n\nKosten\n\n\n\n\nTeilnahmebeitrag für BIO AUSTRIA Mitglieder: 55€ \n\n\n\nTeilnahmebeitrag gefördert: 60€ \n\n\n\nTeilnahmebeitrag ungefördert: 170€ \n\n\n\n\nAnmeldung\n\n\n\n\nHier geht es zur Anmeldung
URL:https://www.bio-austria.at/v/bauern/webinar-mehrjaehriges-gemuese-ii-kulturen-pflanzgemeinschaften-kulinarik-vieles-mehr/
ATTACH;FMTTYPE=image/jpeg:https://www.bio-austria.at/app/uploads/2025/10/foto-fur-kurs-mehrjahriges-gemuse-ba-noe-und-wien.jpg
END:VEVENT
END:VCALENDAR