BEGIN:VCALENDAR
VERSION:2.0
PRODID:-//BIO AUSTRIA - ECPv6.15.20//NONSGML v1.0//EN
CALSCALE:GREGORIAN
METHOD:PUBLISH
X-WR-CALNAME:BIO AUSTRIA
X-ORIGINAL-URL:https://www.bio-austria.at
X-WR-CALDESC:Veranstaltungen für BIO AUSTRIA
REFRESH-INTERVAL;VALUE=DURATION:PT1H
X-Robots-Tag:noindex
X-PUBLISHED-TTL:PT1H
BEGIN:VTIMEZONE
TZID:Europe/Vienna
BEGIN:DAYLIGHT
TZOFFSETFROM:+0100
TZOFFSETTO:+0200
TZNAME:CEST
DTSTART:20240331T010000
END:DAYLIGHT
BEGIN:STANDARD
TZOFFSETFROM:+0200
TZOFFSETTO:+0100
TZNAME:CET
DTSTART:20241027T010000
END:STANDARD
BEGIN:DAYLIGHT
TZOFFSETFROM:+0100
TZOFFSETTO:+0200
TZNAME:CEST
DTSTART:20250330T010000
END:DAYLIGHT
BEGIN:STANDARD
TZOFFSETFROM:+0200
TZOFFSETTO:+0100
TZNAME:CET
DTSTART:20251026T010000
END:STANDARD
BEGIN:DAYLIGHT
TZOFFSETFROM:+0100
TZOFFSETTO:+0200
TZNAME:CEST
DTSTART:20260329T010000
END:DAYLIGHT
BEGIN:STANDARD
TZOFFSETFROM:+0200
TZOFFSETTO:+0100
TZNAME:CET
DTSTART:20261025T010000
END:STANDARD
END:VTIMEZONE
BEGIN:VEVENT
DTSTART;TZID=Europe/Vienna:20251104T193000
DTEND;TZID=Europe/Vienna:20251104T213000
DTSTAMP:20260423T161435
CREATED:20250909T081218Z
LAST-MODIFIED:20250909T081220Z
UID:475441-1762284600-1762291800@www.bio-austria.at
SUMMARY:Webinar: Nachhaltige Bio-Grünlandwirtschaft - Geht sich das aus?
DESCRIPTION:Mit begrenztem Dünger alle Flächen ausreichend zu versorgen kann eine Herausforderung sein. Mit Walter Starz vom Bio-Institut Raumberg-Gumpenstein und einem Praktiker versuchen wir die Nährstoffsituation am Bio-Grünlandbetrieb zu analysieren und richtig zu bewerten. Die Nährstoffbilanz zeigt\, ob die Flächen langfristig ertragreich bleiben können oder etwas verändert werden sollte. Flächenzupacht\, um die gleiche Tieranzahl ernähren zu können\, ist langfristig nicht immer sinnvoll. \n\n\n\nZielgruppe:\n\n\n\nBio-Grünlandbewirtschafter:innen \n\n\n\nReferent:\n\n\n\nDI Dr. Walter Starz \n\n\n\nAnrechnung:\n\n\n\n2 Stunden für ÖPUL23 – BIO \n\n\n\nKosten:\n\n\n\n\nTeilnahmebeitrag für BIO AUSTRIA Mitglieder: 15€\n\n\n\nTeilnahmebeitrag gefördert: 20€\n\n\n\nTeilnahmebeitrag ungefördert: 40€\n\n\n\n\nAnmeldung:\n\n\n\n\nHier geht es zur Anmeldung
URL:https://www.bio-austria.at/v/bauern/webinar-nachhaltige-bio-gruenlandwirtschaft-geht-sich-das-aus/
LOCATION:Webinar
ATTACH;FMTTYPE=image/jpeg:https://www.bio-austria.at/app/uploads/2024/07/grunlad-aktuell-3h.jpg
END:VEVENT
END:VCALENDAR