BEGIN:VCALENDAR
VERSION:2.0
PRODID:-//BIO AUSTRIA - ECPv6.15.20//NONSGML v1.0//EN
CALSCALE:GREGORIAN
METHOD:PUBLISH
X-WR-CALNAME:BIO AUSTRIA
X-ORIGINAL-URL:https://www.bio-austria.at
X-WR-CALDESC:Veranstaltungen für BIO AUSTRIA
REFRESH-INTERVAL;VALUE=DURATION:PT1H
X-Robots-Tag:noindex
X-PUBLISHED-TTL:PT1H
BEGIN:VTIMEZONE
TZID:Europe/Vienna
BEGIN:DAYLIGHT
TZOFFSETFROM:+0100
TZOFFSETTO:+0200
TZNAME:CEST
DTSTART:20240331T010000
END:DAYLIGHT
BEGIN:STANDARD
TZOFFSETFROM:+0200
TZOFFSETTO:+0100
TZNAME:CET
DTSTART:20241027T010000
END:STANDARD
BEGIN:DAYLIGHT
TZOFFSETFROM:+0100
TZOFFSETTO:+0200
TZNAME:CEST
DTSTART:20250330T010000
END:DAYLIGHT
BEGIN:STANDARD
TZOFFSETFROM:+0200
TZOFFSETTO:+0100
TZNAME:CET
DTSTART:20251026T010000
END:STANDARD
BEGIN:DAYLIGHT
TZOFFSETFROM:+0100
TZOFFSETTO:+0200
TZNAME:CEST
DTSTART:20260329T010000
END:DAYLIGHT
BEGIN:STANDARD
TZOFFSETFROM:+0200
TZOFFSETTO:+0100
TZNAME:CET
DTSTART:20261025T010000
END:STANDARD
END:VTIMEZONE
BEGIN:VEVENT
DTSTART;TZID=Europe/Vienna:20251028T183000
DTEND;TZID=Europe/Vienna:20251028T213000
DTSTAMP:20260423T171713
CREATED:20250908T080738Z
LAST-MODIFIED:20250908T080739Z
UID:475334-1761676200-1761687000@www.bio-austria.at
SUMMARY:Webinar: Naturvielfalt am Betrieb fördern - Schwerpunkt Grünland und Insektenvielfalt
DESCRIPTION:Wiesen sind Lebensräume – oder sollten es sein. Doch wie wirkt sich die Bewirtschaftung tatsächlich auf die Artenvielfalt aus? In diesem Webinar werfen wir einen genauen Blick auf die Insektenwelt in Wiesen:  \n\n\n\n\nWelche Arten gehören eigentlich dazu? \n\n\n\nWelche fehlen oft – und warum? \n\n\n\nUnd was braucht es\, damit es in Wiesen wieder summt\, zirpt und flattert? \n\n\n\n\nMit ausgewählten Artporträts zeigen wir typische und gefährdete Vertreter der Wiesenfauna – und was ihr Vorkommen (oder Fehlen) über Lebensräume und Pflege verrät. Zwei Praktiker werden außerdem über ihre Erfahrungen mit insektenschonender Mahd berichten. \n\n\n\nZielgruppe:\n\n\n\nGrünlandbetriebe \n\n\n\nReferent:innen:\n\n\n\n\nDr. Thomas Frieß\n\n\n\nManfred Fruhauf\n\n\n\nJakob Mayer\n\n\n\n\nAnrechnung:\n\n\n\n3 Stunden für ÖPUL23 – UBB oder Biodiversität \n\n\n\nKosten:\n\n\n\n\nTeilnahmebeitrag für BIO AUSTRIA Mitglieder: 15€\n\n\n\nTeilnahmebeitrag gefördert: 20€\n\n\n\nTeilnahmebeitrag ungefördert: 50€\n\n\n\n\nAnmeldung:\n\n\n\n\nHier geht es zur Anmeldung
URL:https://www.bio-austria.at/v/bauern/webinar-naturvielfalt-am-betrieb-foerdern-schwerpunkt-gruenland-und-insektenvielfalt/
LOCATION:Webinar
ATTACH;FMTTYPE=image/jpeg:https://www.bio-austria.at/app/uploads/2023/08/biodiversitatsflachen-im-grunland.jpg
END:VEVENT
END:VCALENDAR