BEGIN:VCALENDAR
VERSION:2.0
PRODID:-//BIO AUSTRIA - ECPv6.15.20//NONSGML v1.0//EN
CALSCALE:GREGORIAN
METHOD:PUBLISH
X-WR-CALNAME:BIO AUSTRIA
X-ORIGINAL-URL:https://www.bio-austria.at
X-WR-CALDESC:Veranstaltungen für BIO AUSTRIA
REFRESH-INTERVAL;VALUE=DURATION:PT1H
X-Robots-Tag:noindex
X-PUBLISHED-TTL:PT1H
BEGIN:VTIMEZONE
TZID:Europe/Vienna
BEGIN:DAYLIGHT
TZOFFSETFROM:+0100
TZOFFSETTO:+0200
TZNAME:CEST
DTSTART:20240331T010000
END:DAYLIGHT
BEGIN:STANDARD
TZOFFSETFROM:+0200
TZOFFSETTO:+0100
TZNAME:CET
DTSTART:20241027T010000
END:STANDARD
BEGIN:DAYLIGHT
TZOFFSETFROM:+0100
TZOFFSETTO:+0200
TZNAME:CEST
DTSTART:20250330T010000
END:DAYLIGHT
BEGIN:STANDARD
TZOFFSETFROM:+0200
TZOFFSETTO:+0100
TZNAME:CET
DTSTART:20251026T010000
END:STANDARD
BEGIN:DAYLIGHT
TZOFFSETFROM:+0100
TZOFFSETTO:+0200
TZNAME:CEST
DTSTART:20260329T010000
END:DAYLIGHT
BEGIN:STANDARD
TZOFFSETFROM:+0200
TZOFFSETTO:+0100
TZNAME:CET
DTSTART:20261025T010000
END:STANDARD
END:VTIMEZONE
BEGIN:VEVENT
DTSTART;TZID=Europe/Vienna:20251127T180000
DTEND;TZID=Europe/Vienna:20251127T200000
DTSTAMP:20260422T231529
CREATED:20251008T084326Z
LAST-MODIFIED:20251017T061218Z
UID:476947-1764266400-1764273600@www.bio-austria.at
SUMMARY:Webinar: Schädlinge und Krankheiten im Bio-Fruchtgemüseanbau - Schwerpunkt "Geschützter Anbau" (B-K-014/25)
DESCRIPTION:Inhalt\n\n\n\nErkennung von Schädlingen und Krankheiten\, welche in der Anbaupraxis von Fruchtgemüse häufig auftreten\, inklusive möglicher vorbeugender und direkter Reduktionsstrategien bei: \n\n\n\n\nReiswanze\, Rostmilbe\, Spinnmilbe\n\n\n\nSamtflecken\, Kraut- und Braunfäule\, Mehltau\n\n\n\nViruserkrankungen\n\n\n\n\nReferentin\n\n\n\n\nMag. Renate FuchsFachberaterin Referat Gartenbau\, LK Steiermark\n\n\n\n\nAnerkennung\n\n\n\nFür das Webinar werden 2 Stunden ÖPUL-Bio anerkannt. \n\n\n\nVeranstalter\n\n\n\n\nBIO AUSTRIA Burgenland\n\n\n\nLFI Burgenland\n\n\n\n\nAnmeldung\n\n\n\nAnmeldung bis spätestens 20.11.2025 bei BIO AUSTRIA BurgenlandTel.: 02612/43 642 oderE-Mail: burgenland@bio-austria.at \n\n\n\n \n\n\n\nDie Zusendung des Teilnahmelinks erfolgt erst nach Eingang der Teilnahmegebühr auf dem BIO AUSTRIA Burgenland Konto!
URL:https://www.bio-austria.at/v/bauern/webinar-schaedlinge-und-krankheiten-im-bio-fruchtgemueseanbau-schwerpunkt-geschuetzter-anbau/
ATTACH;FMTTYPE=image/jpeg:https://www.bio-austria.at/app/uploads/2025/10/2-krankheiten-schadlinge-fruchtgemuse.jpeg
END:VEVENT
END:VCALENDAR