BEGIN:VCALENDAR
VERSION:2.0
PRODID:-//BIO AUSTRIA - ECPv6.15.20//NONSGML v1.0//EN
CALSCALE:GREGORIAN
METHOD:PUBLISH
X-WR-CALNAME:BIO AUSTRIA
X-ORIGINAL-URL:https://www.bio-austria.at
X-WR-CALDESC:Veranstaltungen für BIO AUSTRIA
REFRESH-INTERVAL;VALUE=DURATION:PT1H
X-Robots-Tag:noindex
X-PUBLISHED-TTL:PT1H
BEGIN:VTIMEZONE
TZID:Europe/Vienna
BEGIN:DAYLIGHT
TZOFFSETFROM:+0100
TZOFFSETTO:+0200
TZNAME:CEST
DTSTART:20250330T010000
END:DAYLIGHT
BEGIN:STANDARD
TZOFFSETFROM:+0200
TZOFFSETTO:+0100
TZNAME:CET
DTSTART:20251026T010000
END:STANDARD
BEGIN:DAYLIGHT
TZOFFSETFROM:+0100
TZOFFSETTO:+0200
TZNAME:CEST
DTSTART:20260329T010000
END:DAYLIGHT
BEGIN:STANDARD
TZOFFSETFROM:+0200
TZOFFSETTO:+0100
TZNAME:CET
DTSTART:20261025T010000
END:STANDARD
BEGIN:DAYLIGHT
TZOFFSETFROM:+0100
TZOFFSETTO:+0200
TZNAME:CEST
DTSTART:20270328T010000
END:DAYLIGHT
BEGIN:STANDARD
TZOFFSETFROM:+0200
TZOFFSETTO:+0100
TZNAME:CET
DTSTART:20271031T010000
END:STANDARD
END:VTIMEZONE
BEGIN:VEVENT
DTSTART;TZID=Europe/Vienna:20260219T090000
DTEND;TZID=Europe/Vienna:20260219T120000
DTSTAMP:20260423T062136
CREATED:20251001T063701Z
LAST-MODIFIED:20251001T063702Z
UID:476437-1771491600-1771502400@www.bio-austria.at
SUMMARY:Webinar: Stickstoffdynamik im viehlosen Ackerbau
DESCRIPTION:Viehlose Bewirtschaftung erfordert eine genaue Kenntnis der Stickstoffverfügbarkeit\, insbesondere im biologischen Landbau. In diesem praxisorientierten Webinar werden die Grundlagen der N-Dynamik und die Bedeutung der Stickstoff-Fixierung durch Leguminosen besprochen. Eine einfache Methode zur Abschätzung des Nitrat-N im Boden wird vorgestellt. \n\n\n\nReferentinnen:\n\n\n\n\nDI Elisabeth Neuner\n\n\n\nMag. Marion Bonell\n\n\n\n\nKosten:\n\n\n\n\nTeilnahmebeitrag gefördert: 40€\n\n\n\nTeilnahmebeitrag ungefördert: 90€\n\n\n\n\nAnrechnung:\n\n\n\n3 Stunden für ÖPUL23-GWA (Grundwasser Acker) \n\n\n\nWeitere Informationen und Anmeldung:\n\n\n\n\nHier geht es zur Anmeldung
URL:https://www.bio-austria.at/v/bauern/webinar-stickstoffdynamik-im-viehlosen-ackerbau-3/
LOCATION:Webinar
ATTACH;FMTTYPE=image/jpeg:https://www.bio-austria.at/app/uploads/Leguminosenanbau_im_Biolandbau@BIO-AUSTRIAMarkus-Danner.jpg
END:VEVENT
END:VCALENDAR