BEGIN:VCALENDAR
VERSION:2.0
PRODID:-//BIO AUSTRIA - ECPv6.15.20//NONSGML v1.0//EN
CALSCALE:GREGORIAN
METHOD:PUBLISH
X-WR-CALNAME:BIO AUSTRIA
X-ORIGINAL-URL:https://www.bio-austria.at
X-WR-CALDESC:Veranstaltungen für BIO AUSTRIA
REFRESH-INTERVAL;VALUE=DURATION:PT1H
X-Robots-Tag:noindex
X-PUBLISHED-TTL:PT1H
BEGIN:VTIMEZONE
TZID:Europe/Vienna
BEGIN:DAYLIGHT
TZOFFSETFROM:+0100
TZOFFSETTO:+0200
TZNAME:CEST
DTSTART:20240331T010000
END:DAYLIGHT
BEGIN:STANDARD
TZOFFSETFROM:+0200
TZOFFSETTO:+0100
TZNAME:CET
DTSTART:20241027T010000
END:STANDARD
BEGIN:DAYLIGHT
TZOFFSETFROM:+0100
TZOFFSETTO:+0200
TZNAME:CEST
DTSTART:20250330T010000
END:DAYLIGHT
BEGIN:STANDARD
TZOFFSETFROM:+0200
TZOFFSETTO:+0100
TZNAME:CET
DTSTART:20251026T010000
END:STANDARD
BEGIN:DAYLIGHT
TZOFFSETFROM:+0100
TZOFFSETTO:+0200
TZNAME:CEST
DTSTART:20260329T010000
END:DAYLIGHT
BEGIN:STANDARD
TZOFFSETFROM:+0200
TZOFFSETTO:+0100
TZNAME:CET
DTSTART:20261025T010000
END:STANDARD
END:VTIMEZONE
BEGIN:VEVENT
DTSTART;TZID=Europe/Vienna:20251204T193000
DTEND;TZID=Europe/Vienna:20251204T220000
DTSTAMP:20260423T051131
CREATED:20251002T083800Z
LAST-MODIFIED:20251002T184515Z
UID:476618-1764876600-1764885600@www.bio-austria.at
SUMMARY:Webinar: Upgrade für Ihren Kuhstall - Licht\, Luft\, Ruhe...
DESCRIPTION:Die Arbeit mit gesunden Tieren macht Spaß. Stallklima und Kuhkomfort sind entscheidend für Tiergesundheit\, Fruchtbarkeit und Leistungsbereitschaft unserer Rinder. Das Webinar liefert praktische Tipps wie Stallklima und Kuhkomfort im eigenen Stall bewertet und bestehende Ställe einfach und günstig optimiert werden können. Ihre Kühe werden es Ihnen danken! \n\n\n\nZielgruppe:\n\n\n\nMilchviehbetriebe\, rinderhaltende Betriebe \n\n\n\nReferenten:\n\n\n\n\nReinhard Gastecker\n\n\n\nDr. Marco Horn\n\n\n\n\nAnrechnung:\n\n\n\n\n1 Stunde für ÖPUL23-BIO\n\n\n\n1 Stunde für QPLUS-LKV Rinder\n\n\n\n1 Stunde für TGD\n\n\n\n\nKosten:\n\n\n\n\nTeilnahmebeitrag gefördert: 25€\n\n\n\nTeilnahmebeitrag ungefördert: 75€\n\n\n\n\nWeitere Informationen und Anmeldung:\n\n\n\n\nHier geht es zur Anmeldung
URL:https://www.bio-austria.at/v/bauern/webinar-upgrade-fuer-ihren-kuhstall-licht-luft-ruhe/
LOCATION:Webinar
ATTACH;FMTTYPE=image/jpeg:https://www.bio-austria.at/app/uploads/2024/07/stall-udn-weide.jpg
END:VEVENT
END:VCALENDAR