BEGIN:VCALENDAR
VERSION:2.0
PRODID:-//BIO AUSTRIA - ECPv6.15.20//NONSGML v1.0//EN
CALSCALE:GREGORIAN
METHOD:PUBLISH
X-WR-CALNAME:BIO AUSTRIA
X-ORIGINAL-URL:https://www.bio-austria.at
X-WR-CALDESC:Veranstaltungen für BIO AUSTRIA
REFRESH-INTERVAL;VALUE=DURATION:PT1H
X-Robots-Tag:noindex
X-PUBLISHED-TTL:PT1H
BEGIN:VTIMEZONE
TZID:Europe/Vienna
BEGIN:DAYLIGHT
TZOFFSETFROM:+0100
TZOFFSETTO:+0200
TZNAME:CEST
DTSTART:20240331T010000
END:DAYLIGHT
BEGIN:STANDARD
TZOFFSETFROM:+0200
TZOFFSETTO:+0100
TZNAME:CET
DTSTART:20241027T010000
END:STANDARD
BEGIN:DAYLIGHT
TZOFFSETFROM:+0100
TZOFFSETTO:+0200
TZNAME:CEST
DTSTART:20250330T010000
END:DAYLIGHT
BEGIN:STANDARD
TZOFFSETFROM:+0200
TZOFFSETTO:+0100
TZNAME:CET
DTSTART:20251026T010000
END:STANDARD
BEGIN:DAYLIGHT
TZOFFSETFROM:+0100
TZOFFSETTO:+0200
TZNAME:CEST
DTSTART:20260329T010000
END:DAYLIGHT
BEGIN:STANDARD
TZOFFSETFROM:+0200
TZOFFSETTO:+0100
TZNAME:CET
DTSTART:20261025T010000
END:STANDARD
END:VTIMEZONE
BEGIN:VEVENT
DTSTART;TZID=Europe/Vienna:20251206T150000
DTEND;TZID=Europe/Vienna:20251220T190000
DTSTAMP:20260422T231100
CREATED:20251008T142617Z
LAST-MODIFIED:20251024T091654Z
UID:477035-1765033200-1766257200@www.bio-austria.at
SUMMARY:Räucherduft & Kerzenschein am Thurerhof
DESCRIPTION:Erlebe den besonderen Adventzauber am Thurerhof: An allen vier Adventssamstagen von 15–19 Uhr verwandelt sich unser Hof in Seeham im Salzburger Seenland in einen Ort voller Lichter\, Düfte und Handwerkskunst.In der stillsten Zeit des Jahres laden wir euch herzlich ein\, den Advent bei uns am Thurerhof zu erleben. Wenn das Feuer leise knistert\, Kerzen ihr warmes Licht verströmen und feiner Räucherduft die Luft erfüllt\, dann wird die Vorweihnachtszeit spürbar – mit allen Sinnen\, still und doch voller Tiefe. Lichterweg – ein Erlebnis für alle Sinne\, Räucherritual & alte Bräuche\, Kerzenschein\, Feuer & Handwerk vom Hof\, Erlebnis am Lagerfeuer \n\n\n\n \n\n\n\nTermine: \n\n\n\n\n06.12.2025\n\n\n\n13.12.2025\n\n\n\n20.12.2025\n\n\n\n\n\nInfos & Anmeldung
URL:https://www.bio-austria.at/v/konsument/adventzauber-am-thurerhof/
LOCATION:Thurerhofs Kräuterwelt\, Thur 1\, Seeham\, 5164
ATTACH;FMTTYPE=image/jpeg:https://www.bio-austria.at/app/uploads/Schaubauernhof-Logo.jpg
END:VEVENT
END:VCALENDAR