BEGIN:VCALENDAR
VERSION:2.0
PRODID:-//BIO AUSTRIA - ECPv6.15.20//NONSGML v1.0//EN
CALSCALE:GREGORIAN
METHOD:PUBLISH
X-WR-CALNAME:BIO AUSTRIA
X-ORIGINAL-URL:https://www.bio-austria.at
X-WR-CALDESC:Veranstaltungen für BIO AUSTRIA
REFRESH-INTERVAL;VALUE=DURATION:PT1H
X-Robots-Tag:noindex
X-PUBLISHED-TTL:PT1H
BEGIN:VTIMEZONE
TZID:Europe/Vienna
BEGIN:DAYLIGHT
TZOFFSETFROM:+0100
TZOFFSETTO:+0200
TZNAME:CEST
DTSTART:20240331T010000
END:DAYLIGHT
BEGIN:STANDARD
TZOFFSETFROM:+0200
TZOFFSETTO:+0100
TZNAME:CET
DTSTART:20241027T010000
END:STANDARD
BEGIN:DAYLIGHT
TZOFFSETFROM:+0100
TZOFFSETTO:+0200
TZNAME:CEST
DTSTART:20250330T010000
END:DAYLIGHT
BEGIN:STANDARD
TZOFFSETFROM:+0200
TZOFFSETTO:+0100
TZNAME:CET
DTSTART:20251026T010000
END:STANDARD
BEGIN:DAYLIGHT
TZOFFSETFROM:+0100
TZOFFSETTO:+0200
TZNAME:CEST
DTSTART:20260329T010000
END:DAYLIGHT
BEGIN:STANDARD
TZOFFSETFROM:+0200
TZOFFSETTO:+0100
TZNAME:CET
DTSTART:20261025T010000
END:STANDARD
BEGIN:DAYLIGHT
TZOFFSETFROM:+0100
TZOFFSETTO:+0200
TZNAME:CEST
DTSTART:20270328T010000
END:DAYLIGHT
BEGIN:STANDARD
TZOFFSETFROM:+0200
TZOFFSETTO:+0100
TZNAME:CET
DTSTART:20271031T010000
END:STANDARD
END:VTIMEZONE
BEGIN:VEVENT
DTSTART;TZID=Europe/Vienna:20251228T180000
DTEND;TZID=Europe/Vienna:20260106T210000
DTSTAMP:20260421T155629
CREATED:20251211T144316Z
LAST-MODIFIED:20251211T144414Z
UID:538542-1766944800-1767733200@www.bio-austria.at
SUMMARY:Fackelwanderung im Teufelsgraben
DESCRIPTION:Romantische Waldwanderung\, vorbei an Kugelmühle und Wildkar-Wasserfall\, eine Blasmusikkapelle spielt weihnachtliche Weisen. Gemütliche Rast mit bäuerlichen Bio-Schmankerln bei der Röhrmoosmühle. Treffpunkt Parkplatz Teufelsgraben/Matzing.  \n\n\n\n \n\n\n\nKosten 26 Euro/Person\, 15 Euro pro Kind bis 12 Jahre inkl. heißem Bio-Getränk und einem Bio-Bauernkrapfen \n\n\n\n \n\n\n\nAnmeldung: 06217 5493\, www.seeham-info.at \n\n\n\n \n\n\n\nTermine: \n\n\n\n\n28.12.2025\n\n\n\n29.12.2025\n\n\n\n30.12.2025\n\n\n\n3.1.2026\n\n\n\n6.1.2026
URL:https://www.bio-austria.at/v/konsument/fackelwanderung-im-teufelsgraben/
LOCATION:Parkplatz Teufelsgraben\, Seeham\, 5164\, Austria
END:VEVENT
END:VCALENDAR