BEGIN:VCALENDAR
VERSION:2.0
PRODID:-//BIO AUSTRIA - ECPv6.15.20//NONSGML v1.0//EN
CALSCALE:GREGORIAN
METHOD:PUBLISH
X-WR-CALNAME:BIO AUSTRIA
X-ORIGINAL-URL:https://www.bio-austria.at
X-WR-CALDESC:Veranstaltungen für BIO AUSTRIA
REFRESH-INTERVAL;VALUE=DURATION:PT1H
X-Robots-Tag:noindex
X-PUBLISHED-TTL:PT1H
BEGIN:VTIMEZONE
TZID:Europe/Vienna
BEGIN:DAYLIGHT
TZOFFSETFROM:+0100
TZOFFSETTO:+0200
TZNAME:CEST
DTSTART:20240331T010000
END:DAYLIGHT
BEGIN:STANDARD
TZOFFSETFROM:+0200
TZOFFSETTO:+0100
TZNAME:CET
DTSTART:20241027T010000
END:STANDARD
BEGIN:DAYLIGHT
TZOFFSETFROM:+0100
TZOFFSETTO:+0200
TZNAME:CEST
DTSTART:20250330T010000
END:DAYLIGHT
BEGIN:STANDARD
TZOFFSETFROM:+0200
TZOFFSETTO:+0100
TZNAME:CET
DTSTART:20251026T010000
END:STANDARD
BEGIN:DAYLIGHT
TZOFFSETFROM:+0100
TZOFFSETTO:+0200
TZNAME:CEST
DTSTART:20260329T010000
END:DAYLIGHT
BEGIN:STANDARD
TZOFFSETFROM:+0200
TZOFFSETTO:+0100
TZNAME:CET
DTSTART:20261025T010000
END:STANDARD
END:VTIMEZONE
BEGIN:VEVENT
DTSTART;TZID=Europe/Vienna:20251126T083000
DTEND;TZID=Europe/Vienna:20251127T183000
DTSTAMP:20260423T001922
CREATED:20251008T083944Z
LAST-MODIFIED:20251008T083946Z
UID:476954-1764145800-1764268200@www.bio-austria.at
SUMMARY:FLEISCH PAKET
DESCRIPTION:© BIO Vorarlberg\n\n\n\nÜber das Fleischpaket bietet BIO Vorarlberg viermal im Jahr bestes Vorarlberger Bio-Fleisch direkt ohne Zwischenhändler anbieten.Das Bio-Fleisch kommt zu 100% von Vorarlberger Bio-Betrieben – eine artgerechte Tierhaltung mit Weidewirtschaft ist garantiert.Die Tiere sind alle in Vorarlberg geboren und aufgezogen\, mit Bio-Futter gefüttert\, kurze Transporte durch die Schlachtung im Land gegeben. \n\n\n\nEuer Fleischpaket könnt ihr an einem für euch nahegelegenen Ort abholen. \n\n\n\n\nHier geht es zur Bestellung…
URL:https://www.bio-austria.at/v/konsument/fleisch-paket/
ATTACH;FMTTYPE=image/jpeg:https://www.bio-austria.at/app/uploads/2025/10/fleischpaket-2025-winter-newsletter-2-bilddatum.jpg
ORGANIZER;CN="BIO Vorarlberg":MAILTO:info@biovorarlberg.at
END:VEVENT
END:VCALENDAR